BEGIN:VCALENDAR
VERSION:2.0
PRODID:-//ChamberMaster//Event Calendar 2.0//EN
METHOD:PUBLISH
X-PUBLISHED-TTL:P3D
REFRESH-INTERVAL:P3D
CALSCALE:GREGORIAN
BEGIN:VEVENT
DTSTART;VALUE=DATE:20160511
DTEND;VALUE=DATE:20160814
TRANSP:TRANSPARENT
X-MICROSOFT-CDO-ALLDAYEVENT:TRUE
SUMMARY:Yarn Bomb the Museum
DESCRIPTION:The Yarn Bomb the Museum outdoor public fiber art exhibit opens on Wednesday May 11th and will run through August 13\, 2016. The exhibit features local crafts people who have created fiber based art to decorate the grounds of the Old Courthouse and Old Jailhouse museums at 320 S. 5th Ave\, West Bend\, WI.
X-ALT-DESC;FMTTYPE=text/html:The Yarn Bomb the Museum outdoor public fiber art exhibit opens on Wednesday May 11th and will run through August 13\, 2016. The exhibit features local crafts people who have created fiber based art to decorate the grounds of the Old Courthouse and Old Jailhouse museums at 320 S. 5th Ave\, West Bend\, WI.
LOCATION:the Old Courthouse Museum 320 S 5th Ave West Bend 53095
UID:e.898.3635
SEQUENCE:3
DTSTAMP:20260421T120316Z
URL:https://cm.hartfordchamber.org/events/details/yarn-bomb-the-museum-05-11-2016-3635
END:VEVENT

END:VCALENDAR
