BEGIN:VCALENDAR
VERSION:2.0
PRODID:-//ChamberMaster//Event Calendar 2.0//EN
METHOD:PUBLISH
X-PUBLISHED-TTL:P3D
REFRESH-INTERVAL:P3D
CALSCALE:GREGORIAN
BEGIN:VEVENT
DTSTART:20250523T224500Z
DTEND:20250524T170000Z
X-MICROSOFT-CDO-ALLDAYEVENT:FALSE
SUMMARY:Wine & Wander
DESCRIPTION:Wine & Wander specialty tours are back at The Tower Heritage Center! With the scent of spring blooms in the air\, wander through 19th-century historic buildings. Go behind the scenes\, into spaces rarely open to the public. Enjoy nostalgic activities and outdoor games. Kids are welcome (and tour free with an accompanying adult). Here's what you can look forward to: - Climb the Courthouse tower for a stunning view - Tour the Jailhouse residence and cellblock\, an architectural marvel - Enjoy family-friendly outdoor games and activities - Sip wine\, old-fashioned sodas\, and more (available for purchase) Tickets are limited\, so go ahead and save yours now we'd love to see you there!
X-ALT-DESC;FMTTYPE=text/html:Wine &amp\; Wander specialty tours are back at The Tower Heritage Center! With the scent of spring blooms in the air\, wander through 19th-century historic buildings. Go behind the scenes\, into spaces rarely open to the public. Enjoy nostalgic activities and outdoor games. Kids are welcome (and tour free with an accompanying adult). Here&rsquo\;s what you can look forward to: - Climb the Courthouse tower for a stunning view - Tour the Jailhouse residence and cellblock\, an architectural marvel - Enjoy family-friendly outdoor games and activities - Sip wine\, old-fashioned sodas\, and more (available for purchase) Tickets are limited\, so go ahead and save yours now&mdash\;we&rsquo\;d love to see you there!
LOCATION:The Tower Heritage Center | West Bend\, WI
UID:e.898.7488
SEQUENCE:3
DTSTAMP:20260425T022220Z
URL:https://cm.hartfordchamber.org/events/details/wine-wander-7488
END:VEVENT

END:VCALENDAR
