BEGIN:VCALENDAR
VERSION:2.0
PRODID:-//ChamberMaster//Event Calendar 2.0//EN
METHOD:PUBLISH
X-PUBLISHED-TTL:P3D
REFRESH-INTERVAL:P3D
CALSCALE:GREGORIAN
BEGIN:VEVENT
DTSTART:20150619T123000Z
DTEND:20150619T140000Z
X-MICROSOFT-CDO-ALLDAYEVENT:FALSE
SUMMARY:WIN - June 2015
DESCRIPTION:Increase your Contacts in Washington County\n\n& Build your Business Network!\n\n \n\nWIN\n\nWashington County Interactive Networking\n\n \nHosted by and held at \n\nMickey's Fresh Frozen Custard\n\n675 Grand Ave\, Hartford\n\n \n\n\nJune 19\, 2015\n\n\n\nSAVE! Register by June 12\n\nfor the discount cost of $12 Chamber Members\n\n\n\nCost: $15 for members of the\n\nHartford\, Germantown & West Bend Chambers\n\n$17 at the door\n\n$25 non-Chamber Members\n\nCancelation policy: Substitutions accepted at any time. No shows will be charged.\n\n \n\n\nDIRECTIONS: Hwy 60 to Hwy 83\, south on Hwy 83\, 1/2 mile to restaurant\n\n\n\nNETWORKING FORMAT\n\n7:30 am - Breakfast\n\nMix & mingle with member and their guests from the Hartford\, Germantown & West Bend Area Chambers of Commerce\n\n\n\n8:00 am - :30 Commercial Introductions\n\nShare a 30 second commercial to introduce your business and promote your products or services\n\n\n\n8:40 am - Success Stories\n\nExtend a thank you or share your business success from WIN networking!\n\n\n\n8:50 am - Business Request\n\nMake your outrageous business-related requests!
X-ALT-DESC;FMTTYPE=text/html:<p><span style="font-family: arial\;"><span style="color: rgb(0\, 0\, 0)\;"><strong>Increase your Contacts in Washington County<br />\n&amp\; Build your Business Network!</strong></span><br />\n&nbsp\;<br />\n<span style="font-size: 28px\;"><strong>WIN</strong></span><br />\n<span style="font-size: 14px\;"><strong>Washington County Interactive Networking</strong></span></span><br />\n&nbsp\;</p>\n<span style="font-family: arial\;"><em><font size="3"><span style="font-size: 14px\;"><span style="font-size: 16px\;"><span style="font-size: 14px\;"><span style="font-size: 16px\;"><span style="font-size: 12px\;">Hosted by and held at </span></span></span></span></span></font></em><br />\n<span style="color: rgb(255\, 51\, 204)\;"><span style="font-size: 18px\;"><strong><span style="font-weight: bold\;">Mickey&#39\;s Fresh Frozen Custard</span></strong></span></span><br />\n675 Grand Ave\, Hartford</span><br />\n&nbsp\;\n<div><br />\n<span style="color: rgb(0\, 0\, 0)\;"><strong><span style="font-size: 14px\;">June 19\, 2015</span></strong><br />\n<br />\n<strong>SAVE! Register by June 12<br />\nfor the discount cost of $12 Chamber Members</strong></span><br />\n<br />\n<strong>Cost: $15 for members of the<br />\nHartford\, Germantown &amp\; West Bend Chambers</strong><br />\n<span style="font-size: 12px\;">$17 at the door</span><br />\n<span style="font-size: 12px\;">$25 non-Chamber Members</span><br />\n<span style="font-size: 12px\;">Cancelation policy: Substitutions accepted at any time. No shows will be charged.</span></div>\n\n<div style="text-align: center\;">&nbsp\;</div>\n<br />\n<span style="font-family: arial\;">DIRECTIONS: </span>Hwy 60 to Hwy 83\, south on Hwy 83\, 1/2 mile to restaurant<br />\n<br />\n<span style="color: rgb(0\, 0\, 0)\;"><strong>NETWORKING FORMAT</strong></span><br />\n<span style="font-size: 12px\;"><strong>7:30 am - Breakfast</strong><br />\nMix &amp\; mingle with member and their guests from the Hartford\, Germantown &amp\; West Bend Area Chambers of Commerce<br />\n<br />\n<strong>8:00 am - :30 Commercial Introductions</strong><br />\nShare a 30 second commercial to introduce your business and promote your products or services<br />\n<br />\n<strong>8:40 am - Success Stories</strong><br />\nExtend a thank you or share your business success from WIN networking!<br />\n<br />\n<strong>8:50 am - Business Request</strong><br />\nMake your outrageous business-related requests!</span><br />\n<br />\n&nbsp\;
LOCATION:
UID:e.898.3411
SEQUENCE:3
DTSTAMP:20260420T221920Z
URL:https://cm.hartfordchamber.org/events/details/win-june-2015-06-19-2015-3411
END:VEVENT

END:VCALENDAR
