BEGIN:VCALENDAR
VERSION:2.0
PRODID:-//ChamberMaster//Event Calendar 2.0//EN
METHOD:PUBLISH
X-PUBLISHED-TTL:P3D
REFRESH-INTERVAL:P3D
CALSCALE:GREGORIAN
BEGIN:VEVENT
DTSTART:20140718T123000Z
DTEND:20140718T140000Z
X-MICROSOFT-CDO-ALLDAYEVENT:FALSE
SUMMARY:WIN- July
DESCRIPTION:Increase your Contacts in Washington County\n\n& Build your Business Network!\n\n \n\nWIN\n\nWashington County Interactive Networking\n\nFriday\, July 18\, 2014\n\n\n\nheld at\n\nSterling Chalet\n\n1271 Hwy 175\, Hubertus 53033\n\n\n\nDirections: Hwy 41/45 to the Holy Hill Rd/Hwy 167W exit\; turn west and travel to Hwy 175\; turn left or south onto Hwy 175/Appleton Avenue\, travel to Sterling Chalet\; just past intersection of Hwy 175 & Hubertus Road/Freistadt Road.\n\n\n\nClick HERE for flyer\n\n\n\n\n\nNETWORKING FORMAT\n\n\n\n  7:30 am - Breakfast\n\nMix & mingle with member and their guests from the Hartford\, Germantown & West Bend Area Chambers of Commerce\n\n\n\n8:00 am - :30 Commercial Introductions\n\nShare a 30 second commercial to introduce your business and promote your products or services\n\n\n\n8:40 am - Success Stories\n\nExtend a thank you or share your business success from WIN networking!\n\n\n\n8:50 am - Business Request\n\nMake your outrageous business-related requests!\n\n\n\nRegistration Required!\n\n\n\nCANCELLATION POLICY: Substitutions accepted at any time. No shows will be charged.\n\nSAVE! RSVP by July 11\n\n$12 Chamber Members\n\n\n\nAfter June 11...\n\n$15 Chamber Members\n\n$17 walk-in registration at the door\n\n$25 non-Chamber Members
X-ALT-DESC;FMTTYPE=text/html:<p><strong><span style="color: rgb(178\, 34\, 34)\;">Increase your Contacts in Washington County<br />\n&amp\; Build your Business Network!</span></strong><br />\n&nbsp\;<br />\n<span style="font-size: 28px\;"><strong><span style="font-family: arial\;">WIN</span></strong></span><br />\n<strong><span style="font-size: 16px\;">Washington County Interactive Networking</span></strong><br />\n<span style="font-size: 16px\;">Friday\,&nbsp\;July 18\, 2014<br />\n<br />\n<em>held at</em><br />\n<span style="font-size: 20px\;"><strong>Sterling Chalet</strong></span><br />\n1271 Hwy 175\, Hubertus 53033</span><br />\n<br />\nDirections: Hwy 41/45 to the Holy Hill Rd/Hwy 167W exit\; turn west and travel to Hwy 175\; turn left or south onto Hwy 175/Appleton Avenue\, travel to Sterling Chalet\; just past intersection of Hwy 175 &amp\; Hubertus Road/Freistadt Road.<br />\n<br />\nClick <a href="http://cloud.chambermaster.com/userfiles/UserFiles/chambers/898/File/flyer-WIN071814WINSterlingChalet.pdf" target="_blank">HERE</a> for flyer<br />\n<br />\n<br />\nNETWORKING FORMAT<br />\n<br />\n<span style="font-size: 16px\;"><span _fck_bookmark="1" style="display: none\;">&nbsp\;</span></span><span _fck_bookmark="1" style="display: none\;">&nbsp\;</span><span style="font-size: 12px\;"><strong>7:30 am - Breakfast</strong><br />\nMix &amp\; mingle with member and their guests from the Hartford\, Germantown &amp\; West Bend Area Chambers of Commerce<br />\n<br />\n<strong>8:00 am - :30 Commercial Introductions</strong><br />\nShare a 30 second commercial to introduce your business and promote your products or services<br />\n<br />\n<strong>8:40 am - Success Stories</strong><br />\nExtend a thank you or share your business success from WIN networking!<br />\n<br />\n<strong>8:50 am - Business Request</strong><br />\nMake your outrageous business-related requests!<br />\n<br />\n<strong>Registration Required!</strong></span><br />\n<br />\nCANCELLATION POLICY: Substitutions accepted at any time. No shows will be charged.</p>\n\n<p><strong><font color="#ff0000">SAVE! RSVP by July 11</font></strong><br />\n<span style="font-size: 12px\;"><strong>$12 Chamber Members</strong><br />\n<br />\nAfter June 11...<br />\n$15 Chamber Members<br />\n$17 walk-in registration at the door</span><br />\n<span style="font-size: 12px\;">$25 non-Chamber Members</span></p>\n
LOCATION:
UID:e.898.3092
SEQUENCE:3
DTSTAMP:20260421T031614Z
URL:https://cm.hartfordchamber.org/events/details/win-july-07-18-2014-3092
END:VEVENT

END:VCALENDAR
