BEGIN:VCALENDAR
VERSION:2.0
PRODID:-//ChamberMaster//Event Calendar 2.0//EN
METHOD:PUBLISH
X-PUBLISHED-TTL:P3D
REFRESH-INTERVAL:P3D
CALSCALE:GREGORIAN
BEGIN:VEVENT
DTSTART:20140818T150000Z
DTEND:20140821T000000Z
X-MICROSOFT-CDO-ALLDAYEVENT:FALSE
SUMMARY:Weight Loss Challenge - Registration Days
DESCRIPTION:WEIGHT LOSS CHALLENGE - REGISTRATION DAYS\n\n\n\nRULES OF THE GAME\n\n\n\nMUST be a member of SNAP FITNESS\n\n(Call us or check out our website for our "End of Summer" special to join.)\n\n \n\n\n	 Entry fee = $20 per participant.  Preferably pay via cash or check to avoid credit card fees. Please make checks out to "Snap Fitness".  Entry fee is due no later than Wednesday\, August 20th. No late entries will be accepted.\n	Body weight and body fat % must be registered in person with Thea or Nikki. Registration days are Monday\, August 18th through Wednesday\, August 20th. (Only 1 weigh-in attempt allowed per person to register.)\n	Challenge starts Wednesday\, August 20th and ends Monday\, October 20th.\n	Participants must come in for their final weigh-in on Monday\, October 20th\, for their final weight to count. (No early or late weigh-ins will be excepted.)\n	 Participants have 60 days to lose 6% of their beginning body weight.  Winners will share total money in pot from the entry fees paid.\n\n\n\n\nPERKS\, PERKS and MORE PERKS!\n\n\n\nTake advantage of special 'challenge' rates AND\n\npersonally train with NIKKI for ONLY $25 per 45 minute session!\n\n\n\nALL active Snap Fitness members who enter the challenge receive $5.00 off their membership fee for September\, or credit on account.\n\n\n\nThe participant with the HIGHEST PERCENTAGE of weight loss will receive a PRIZE PACK including 1 FREE month of membership!
X-ALT-DESC;FMTTYPE=text/html:<p><span style="font-size:14px\;"><strong><span style="font-size:16px\;"><span style="color:#ff0000\;">WEIGHT LOSS CHALLENGE - REGISTRATION DAYS</span></span><br />\n<br />\n<u>RULES OF THE GAME</u></strong></span><br />\n<br />\n<span style="font-size:14px\;"><strong>MUST be a member of SNAP FITNESS</strong><br />\n<span style="font-size:12px\;">(Call us or check out our website for our &quot\;End of Summer&quot\; special to join.)</span></span><br />\n&nbsp\;</p>\n\n<ol>\n	<li><span style="font-size:14px\;">&nbsp\;Entry fee = $20 per participant.&nbsp\; Preferably pay via cash or check to avoid credit card fees. Please make checks out to &ldquo\;Snap Fitness&rdquo\;. &nbsp\;Entry fee is due no later than Wednesday\, August 20<sup>th</sup>. No late entries will be accepted.</span></li>\n	<li><span style="font-size:14px\;">Body weight and body fat % must be registered in person with Thea or Nikki.&nbsp\;Registration days are Monday\, August 18<sup>th</sup> through Wednesday\, August 20<sup>th</sup>.&nbsp\;(Only 1 weigh-in attempt allowed per person to register.)</span></li>\n	<li><span style="font-size:14px\;">Challenge starts Wednesday\, August 20<sup>th</sup> and ends Monday\, October 20<sup>th</sup>.</span></li>\n	<li><span style="font-size:14px\;">Participants must come in for their final weigh-in on Monday\, October 20<sup>th</sup>\, for their final weight to count.&nbsp\;(No early or late weigh-ins will be excepted.)</span></li>\n	<li><span style="font-size:14px\;">&nbsp\;Participants have 60 days to lose 6% of their beginning body weight. &nbsp\;Winners will share total money in pot from the entry fees paid.</span></li>\n</ol>\n\n<p><br />\n<span style="font-size:14px\;"><strong><span style="color: red\;">PERKS\, PERKS and MORE PERKS!</span></strong><br />\n<br />\n<strong>Take advantage of special &lsquo\;challenge&rsquo\; rates AND<br />\npersonally train with NIKKI&nbsp\;for&nbsp\;ONLY $25 per 45 minute session!<br />\n<br />\nALL&nbsp\;</strong>active Snap Fitness members who enter the challenge receive <strong>$5.00&nbsp\;</strong>off their membership fee for <strong>September</strong>\, or credit on account.<br />\n<br />\nThe participant with the <strong>HIGHEST PERCENTAGE </strong>of weight loss will receive a<strong> PRIZE PACK</strong> including 1 <strong>FREE </strong>month of membership!</span></p>\n\n<p>&nbsp\;</p>\n
LOCATION:Snap Fitness Hilldale Plaza 1532 E. Sumner Street Hartford\,WI
UID:e.898.3218
SEQUENCE:3
DTSTAMP:20260420T233451Z
URL:https://cm.hartfordchamber.org/events/details/weight-loss-challenge-registration-days-08-18-2014-3218
END:VEVENT

END:VCALENDAR
