BEGIN:VCALENDAR
VERSION:2.0
PRODID:-//ChamberMaster//Event Calendar 2.0//EN
METHOD:PUBLISH
X-PUBLISHED-TTL:P3D
REFRESH-INTERVAL:P3D
CALSCALE:GREGORIAN
BEGIN:VEVENT
DTSTART:20160806T173000Z
DTEND:20160806T200000Z
X-MICROSOFT-CDO-ALLDAYEVENT:FALSE
SUMMARY:WBBA Threshold Benefit Baseball Game
DESCRIPTION:Come & Enjoy the WBBA Men's Championship Baseball Game! West Bend 7up vs. Kewaskum A's\, First Pitch at 1pm Proceeds to Benefit The Threshold Bring your family and friends for a relaxing\, fun-filled afternoon featuring a Cookout with burgers\, brats\, hot dogs\, chips and a beverage. Lunch served from 12:30 - 3:00. 50/50 Raffle - drawn in the 6th Inning (must be present to win).
X-ALT-DESC;FMTTYPE=text/html:Come &amp\; Enjoy the WBBA Men&#39\;s Championship Baseball Game! West Bend 7up vs. Kewaskum A&#39\;s\, First Pitch at 1pm Proceeds to Benefit The Threshold Bring your family and friends for a relaxing\, fun-filled afternoon featuring a Cookout with burgers\, brats\, hot dogs\, chips and a beverage. Lunch served from 12:30 - 3:00. 50/50 Raffle - drawn in the 6th Inning (must be present to win).
LOCATION:Regner Park - Karl M. Kuss Memorial Field
UID:e.898.3732
SEQUENCE:3
DTSTAMP:20260421T133200Z
URL:https://cm.hartfordchamber.org/events/details/wbba-threshold-benefit-baseball-game-08-06-2016-3732
END:VEVENT

END:VCALENDAR
