BEGIN:VCALENDAR
VERSION:2.0
PRODID:-//ChamberMaster//Event Calendar 2.0//EN
METHOD:PUBLISH
X-PUBLISHED-TTL:P3D
REFRESH-INTERVAL:P3D
CALSCALE:GREGORIAN
BEGIN:VEVENT
DTSTART:20160708T223000Z
DTEND:20160709T033000Z
X-MICROSOFT-CDO-ALLDAYEVENT:FALSE
SUMMARY:WBBA Threshold Benefit Baseball Game
DESCRIPTION:Attention Baseball Fans! Come and enjoy an evening of Baseball and support the Threshold! Your ticket will include a cookout\, 2 games - West Bend East H.S. vs. Sheboygan H.S. at 5:30 and WBBA Men's Championship Game - West Bend Lithia vs. West Bend 7Up at 7:30! There will be a 50/50 Raffle for a chance to win cash! Come on out for an evening of Baseball under the stars and support the Threshold in their mission to create opportunities for people with disabilities!
X-ALT-DESC;FMTTYPE=text/html:<strong>Attention Baseball Fans!</strong> Come and enjoy an evening of Baseball and support the Threshold! Your ticket will include a cookout\, 2 games - West Bend East H.S. vs. Sheboygan H.S. at 5:30 and WBBA Men&#39\;s Championship Game - West Bend Lithia vs. West Bend 7Up at 7:30! There will be a 50/50 Raffle for a chance to win cash! Come on out for an evening of Baseball under the stars and support the Threshold in their mission to create opportunities for people with disabilities!
LOCATION:Regner Park West Bend\, WI
UID:e.898.3718
SEQUENCE:3
DTSTAMP:20260421T134009Z
URL:https://cm.hartfordchamber.org/events/details/wbba-threshold-benefit-baseball-game-07-08-2016-3718
END:VEVENT

END:VCALENDAR
