BEGIN:VCALENDAR
VERSION:2.0
PRODID:-//ChamberMaster//Event Calendar 2.0//EN
METHOD:PUBLISH
X-PUBLISHED-TTL:P3D
REFRESH-INTERVAL:P3D
CALSCALE:GREGORIAN
BEGIN:VEVENT
DTSTART:20160726T220000Z
DTEND:20160801T010000Z
X-MICROSOFT-CDO-ALLDAYEVENT:FALSE
SUMMARY:Washington County Fair
DESCRIPTION:Featuring national musical acts\, a midway and 4-H exhibits\, the six day long Washington County Fair is the single largest event in Washington County. Bring the entire family for an affordable day of food\, rides and much more.
X-ALT-DESC;FMTTYPE=text/html:Featuring national musical acts\, a midway and 4-H exhibits\, the six day long Washington County Fair is the single largest event in Washington County. Bring the entire family for an affordable day of food\, rides and much more.
LOCATION:Washington County Fair Park
UID:e.898.3676
SEQUENCE:3
DTSTAMP:20260421T134135Z
URL:https://cm.hartfordchamber.org/events/details/washington-county-fair-07-26-2016-3676
END:VEVENT

END:VCALENDAR
