BEGIN:VCALENDAR
VERSION:2.0
PRODID:-//ChamberMaster//Event Calendar 2.0//EN
METHOD:PUBLISH
X-PUBLISHED-TTL:P3D
REFRESH-INTERVAL:P3D
CALSCALE:GREGORIAN
BEGIN:VEVENT
DTSTART;VALUE=DATE:20160726
DTEND;VALUE=DATE:20160801
TRANSP:TRANSPARENT
X-MICROSOFT-CDO-ALLDAYEVENT:TRUE
SUMMARY:Washington County Fair
DESCRIPTION:The Washington County Fair is the single largest event in the county. Early Bird ticket prices\, free parking and carnival specials make this an affordable outing for the entire family. You can spend the entire day walking our 133 acres of beautifully landscaped grounds\, enjoy exhibits from the local 4-H youth\, sample food from a myriad of vendors or take a ride on the ever popular Ferris wheel. We also feature three nights of national recording artist entertainment which can be viewed from our natural amphitheater with a general admission fair ticket. Reserved seating is also available through our website. Pick a day\, maybe two and start planning for the annual Washington County Fair. This year we are excited to announce the unveiling of the "Silver Lining Amphitheater" Stage thanks to a generous donation from West Bend Mutual Insurance. This state of the art facility will be the home of our main stage concerts and will be used for the very first time during the 2016 Washington County Fair.
X-ALT-DESC;FMTTYPE=text/html:The Washington County Fair is the single largest event in the county. Early Bird ticket prices\, free parking and carnival specials make this an affordable outing for the entire family. You can spend the entire day walking our 133 acres of beautifully landscaped grounds\, enjoy exhibits from the local 4-H youth\, sample food from a myriad of vendors or take a ride on the ever popular Ferris wheel. We also feature three nights of national recording artist entertainment which can be viewed from our natural amphitheater with a general admission fair ticket. Reserved seating is also available through our website. Pick a day\, maybe two and start planning for the annual Washington County Fair. This year we are excited to announce the unveiling of the &quot\;Silver Lining Amphitheater&quot\; Stage thanks to a generous donation from West Bend Mutual Insurance. This state of the art facility will be the home of our main stage concerts and will be used for the very first time during the 2016 Washington County Fair.
LOCATION:Washington County Fair Park
UID:e.898.3616
SEQUENCE:3
DTSTAMP:20260421T134227Z
URL:https://cm.hartfordchamber.org/events/details/washington-county-fair-07-26-2016-3616
END:VEVENT

END:VCALENDAR
