BEGIN:VCALENDAR
VERSION:2.0
PRODID:-//ChamberMaster//Event Calendar 2.0//EN
METHOD:PUBLISH
X-PUBLISHED-TTL:P3D
REFRESH-INTERVAL:P3D
CALSCALE:GREGORIAN
BEGIN:VEVENT
DTSTART:20250715T210000Z
DTEND:20250716T020000Z
X-MICROSOFT-CDO-ALLDAYEVENT:FALSE
SUMMARY:Veteran's & Military Family Appreciation Picnic
DESCRIPTION:The 4th Annual Veterans & Military Family Appreciation Picnic\n\nJoin us for a heartfelt day of gratitude\, community\, and celebration at our Veterans and Military Family Appreciation Picnic! This special event honors the brave men and women who have served in the armed forces and the families who stand beside them.\n\nWhat to Expect:\n\n	Free meal and refreshments\n	Games and activities for all ages\n	Resource booths\n	Relaxed\, family-friendly atmosphere\n\nWhether you're a veteran\, active service member\, or a proud military family member\, we welcome you to come out\, connect with others\, and enjoy a day of appreciation and fun.
X-ALT-DESC;FMTTYPE=text/html:<span style="color:#424242"><span style="font-family:arial\,sans-serif"><span style="font-size:9.0pt">The 4th Annual Veterans &amp\; Military Family Appreciation Picnic</span></span></span><br />\n<span style="color:#424242"><span style="font-family:arial\,sans-serif"><span style="font-size:9.0pt">Join us for a heartfelt day of gratitude\, community\, and celebration at our&nbsp\;Veterans and Military Family Appreciation Picnic! This special event honors the brave men and women who have served in the armed forces&mdash\;and the families who stand beside them.</span></span></span><br />\n<span style="color:#424242"><span style="font-family:arial\,sans-serif"><span style="font-size:9.0pt">What to Expect:</span></span></span>\n<ul>\n	<li><span style="color:#424242"><span style="font-family:arial\,sans-serif"><span style="font-size:9.0pt">Free meal and refreshments</span></span></span></li>\n	<li><span style="color:#424242"><span style="font-family:arial\,sans-serif"><span style="font-size:9.0pt">Games and activities for all ages</span></span></span></li>\n	<li><span style="color:#424242"><span style="font-family:arial\,sans-serif"><span style="font-size:9.0pt">Resource booths</span></span></span></li>\n	<li><span style="color:#424242"><span style="font-family:arial\,sans-serif"><span style="font-size:9.0pt">Relaxed\, family-friendly atmosphere</span></span></span></li>\n</ul>\n<span style="color:#424242"><span style="font-family:arial\,sans-serif"><span style="font-size:9.0pt">Whether you&#39\;re a veteran\, active service member\, or a proud military family member\, we welcome you to come out\, connect with others\, and enjoy a day of appreciation and fun.</span></span></span>
LOCATION:Hartford Town Hall Pavilion 3360 Co Rd K\, Hartford\, WI 53027
UID:e.898.7562
SEQUENCE:3
DTSTAMP:20260424T205628Z
URL:https://cm.hartfordchamber.org/events/details/veteran-s-military-family-appreciation-picnic-07-15-2025-7562
END:VEVENT

END:VCALENDAR
