BEGIN:VCALENDAR
VERSION:2.0
PRODID:-//ChamberMaster//Event Calendar 2.0//EN
METHOD:PUBLISH
X-PUBLISHED-TTL:P3D
REFRESH-INTERVAL:P3D
CALSCALE:GREGORIAN
BEGIN:VEVENT
DTSTART:20160917T150000Z
DTEND:20160917T183000Z
X-MICROSOFT-CDO-ALLDAYEVENT:FALSE
SUMMARY:Threshold Showcase of Authors III and Nonprofit Open Houses
DESCRIPTION:Attention Bookworms and those interested in touring the new Kettlebrook Community Center and the h.e.l.p. Corner! Mark your calendars for this great event! We have 30 authors from around the state and country coming to the LVS Center! You will find books of all genres. This is a wonderful opportunity to meet the authors\, buy a few books\, have your books signed and tour TTI Industries. The Senior Center\, Family Center Kettlebrook Church and the h.e.l.p. Corner are holding Open Houses that same day! A cookout lunch is available at TTI Industries for purchase. Bring your friends and your family!
X-ALT-DESC;FMTTYPE=text/html:Attention Bookworms and those interested in touring the new Kettlebrook Community Center and the h.e.l.p. Corner! Mark your calendars for this great event! We have 30 authors from around the state and country coming to the LVS Center! You will find books of all genres. This is a wonderful opportunity to meet the authors\, buy a few books\, have your books signed and tour TTI Industries. The Senior Center\, Family Center Kettlebrook Church and the h.e.l.p. Corner are holding Open Houses that same day! A cookout lunch is available at TTI Industries for purchase. Bring your friends and your family!
LOCATION:Lawrence and Vivian Stockhausen Center 2380 W. Washington St. West Bend\, WI
UID:e.898.3745
SEQUENCE:3
DTSTAMP:20260421T104625Z
URL:https://cm.hartfordchamber.org/events/details/threshold-showcase-of-authors-iii-and-nonprofit-open-houses-09-17-2016-3745
END:VEVENT

END:VCALENDAR
