BEGIN:VCALENDAR
VERSION:2.0
PRODID:-//ChamberMaster//Event Calendar 2.0//EN
METHOD:PUBLISH
X-PUBLISHED-TTL:P3D
REFRESH-INTERVAL:P3D
CALSCALE:GREGORIAN
BEGIN:VEVENT
DTSTART:20140628T003000Z
DTEND:20140628T023000Z
X-MICROSOFT-CDO-ALLDAYEVENT:FALSE
SUMMARY:The Sound of Music
DESCRIPTION:The Hartford Players Present - \n\n\n\nThe Sound of Music\n\n\n\nMusic by Richard Rodgers\n\nLyrics by Oscar Hammerstein II\n\nBook by Howard Lindsay and Russel Crouse
X-ALT-DESC;FMTTYPE=text/html:<strong><span style="font-size:16px\;"><span style="font-size:12px\;">The Hartford Players Present</span> - </span></strong><br />\n<br />\n<em><strong><span style="font-size:16px\;">The Sound of Music</span></strong></em><br />\n<br />\nMusic by Richard Rodgers<br />\nLyrics by Oscar Hammerstein II<br />\nBook by Howard Lindsay and Russel Crouse
LOCATION:Schauer Arts and Activities Center 147 N. Rural Street\, Hartford
UID:e.898.3153
SEQUENCE:3
DTSTAMP:20260421T033455Z
URL:https://cm.hartfordchamber.org/events/details/the-sound-of-music-06-27-2014-3153
END:VEVENT

END:VCALENDAR
