BEGIN:VCALENDAR
VERSION:2.0
PRODID:-//ChamberMaster//Event Calendar 2.0//EN
METHOD:PUBLISH
X-PUBLISHED-TTL:P3D
REFRESH-INTERVAL:P3D
CALSCALE:GREGORIAN
BEGIN:VEVENT
DTSTART:20250531T220000Z
DTEND:20250601T013000Z
X-MICROSOFT-CDO-ALLDAYEVENT:FALSE
SUMMARY:The Open Encore ~ Featuring Copper Box
DESCRIPTION:Come celebrate the Course\, the Champions\, the Community at the Schauer Center Courtyard for\nThe Open Encore\n\n\n\nThis event is the partnership of Erin Hills\, the Schauer Arts Center\, and the\n\nHartford Area Chamber of Commerce.
X-ALT-DESC;FMTTYPE=text/html:<span style="font-family:verdana\;">Come celebrate the Course\, the Champions\, the Community at the Schauer Center Courtyard for</span>\n<div style="text-align: center\;"><span style="font-size:26px\;"><strong><span style="font-family:verdana\;">The Open Encore</span></strong></span><br />\n<br />\n<span style="font-size:16px\;">This event is the partnership of Erin Hills\, the Schauer Arts Center\, and the<br />\nHartford Area Chamber of Commerce.</span></div>\n
LOCATION:Schauer Arts Center Courtyard 147 N. Rural Street Hartford\, WI 53027
UID:e.898.7474
SEQUENCE:3
DTSTAMP:20260425T022257Z
URL:https://cm.hartfordchamber.org/events/details/the-open-encore-featuring-copper-box-7474
END:VEVENT

END:VCALENDAR
