BEGIN:VCALENDAR
VERSION:2.0
PRODID:-//ChamberMaster//Event Calendar 2.0//EN
METHOD:PUBLISH
X-PUBLISHED-TTL:P3D
REFRESH-INTERVAL:P3D
CALSCALE:GREGORIAN
BEGIN:VEVENT
DTSTART:20141021T120000Z
DTEND:20141023T000000Z
X-MICROSOFT-CDO-ALLDAYEVENT:FALSE
SUMMARY:Snap Fitness 3-Year Anniversary Celebration and Member Appreciation Days
DESCRIPTION:We are excited to announce it is our 3-Year Anniversary this month and what better way to celebrate than to have Member Appreciation Days. \n\n\n\nCome join us on Tuesday\, October 21st and Wednesday\, October 22nd from 7:00 a.m. to 7:00 p.m.  We want to thank our members because without them we wouldn't be here. \n\n\n\nRefreshments will be served all day.  Spin the Wheel to Earn Raffle Prizes\, Get Personal Trainer Tips and Wellness Assessment along with Equipment Demos and "FREE" Chair Massages.  Learn about our new "FOUNDATIONS" and LES MILLS BODYPUMP" classes and more...\n\n\n\nIn honor of "Breast Cancer Awareness" month\, wear PINK and enter a special PINK   DRAWING!!\n\n\n\nWe look forward to seeing everyone.  Come\, relax\, enjoy the fun and get a good workout in too!  We are here to help you be successful and again want to thank you for being a member of our Snap Fitness club.\n\n\n\nChris\, Dan\, David and Thea\n\n \n\nNon-members stop in and say "Hi"\, tour our facility\, enter a special drawing and find out about our our Special 2-day Anniversary pricing.
X-ALT-DESC;FMTTYPE=text/html:<p><span style="color: #660000\; font-size: medium\; font-family: tahoma\,arial\,helvetica\,sans-serif\;"><span style="color: #000080\;">We are excited to announce it is our <strong>3-Year Anniversary</strong> this month and what better way to celebrate than to have Member Appreciation Days.&nbsp\;<br />\n<br />\nCome join us on <strong>Tuesday\, October 21st</strong> and <strong>Wednesday\, October 22nd </strong>from <strong>7:00 a.m. to 7:00 p.m.</strong>&nbsp\; We want to thank our members because without them we wouldn&#39\;t be here.&nbsp\;<br />\n<br />\nRefreshments will be served all day.&nbsp\; Spin the Wheel to Earn Raffle Prizes\, Get Personal Trainer Tips and Wellness Assessment along with Equipment Demos and &quot\;FREE&quot\; Chair Massages.&nbsp\; Learn about our new &quot\;FOUNDATIONS&quot\; and LES MILLS BODYPUMP&quot\; classes and more...<br />\n<br />\nIn honor of &quot\;</span></span><span style="font-size: medium\; font-family: tahoma\,arial\,helvetica\,sans-serif\;"><span style="color:#cc00cc\;"><span style="font-size: medium\; font-family: tahoma\,arial\,helvetica\,sans-serif\;">Breast Cancer Awareness</span></span></span><span style="color: #660000\; font-size: medium\; font-family: tahoma\,arial\,helvetica\,sans-serif\;"><span style="color: #000080\;">&quot\; month\, wear </span></span><span style="color:#cc00cc\;"><span style="font-size: medium\; font-family: tahoma\,arial\,helvetica\,sans-serif\;">PINK </span></span><span style="color: #660000\; font-size: medium\; font-family: tahoma\,arial\,helvetica\,sans-serif\;"><span style="color: #000080\;">and enter a special </span></span><span style="color:#cc00cc\;"><span style="font-size: medium\; font-family: tahoma\,arial\,helvetica\,sans-serif\;">PINK </span></span><span style="display: none\;">&nbsp\;</span><span style="color: #660000\; font-size: medium\; font-family: tahoma\,arial\,helvetica\,sans-serif\;"><span style="color: #000080\;"><span id="cke_bm_608E" style="display: none\;">&nbsp\;</span>DRAWING!!<br />\n<br />\nWe look forward to seeing everyone.&nbsp\; Come\, relax\, enjoy the fun and get a good workout in too!&nbsp\; We are here to help you be successful and again want to thank you for being a member of our Snap Fitness club.<br />\n<br />\nChris\, Dan\, David and Thea</span></span><br />\n&nbsp\;</p>\n\n<p style="text-align: left\;"><span style="color: #000080\; font-size: medium\; font-family: tahoma\,arial\,helvetica\,sans-serif\;"><strong>Non-members</strong> stop in and say &quot\;Hi&quot\;\, tour our facility\, enter a special drawing and find out about our our <strong>Special 2-day Anniversary pricing</strong>.</span><br />\n<br />\n&nbsp\;</p>\n
LOCATION:Hilldale Plaza 1532 E. Sumner Street Hartford\, WI 53027
UID:e.898.3270
SEQUENCE:3
DTSTAMP:20260420T202024Z
URL:https://cm.hartfordchamber.org/events/details/snap-fitness-3-year-anniversary-celebration-and-member-appreciation-days-10-21-2014-3270
END:VEVENT

END:VCALENDAR
