BEGIN:VCALENDAR
VERSION:2.0
PRODID:-//ChamberMaster//Event Calendar 2.0//EN
METHOD:PUBLISH
X-PUBLISHED-TTL:P3D
REFRESH-INTERVAL:P3D
CALSCALE:GREGORIAN
BEGIN:VEVENT
DTSTART:20141025T220000Z
DTEND:20141026T000000Z
X-MICROSOFT-CDO-ALLDAYEVENT:FALSE
SUMMARY:Slinger Trick or Treat
DESCRIPTION:Village of Slinger\n\nTrick or Treat\n\n5-7 pm
X-ALT-DESC;FMTTYPE=text/html:Village of Slinger<br />\nTrick or Treat<br />\n5-7 pm
LOCATION:
UID:e.898.3262
SEQUENCE:3
DTSTAMP:20260420T214151Z
URL:https://cm.hartfordchamber.org/events/details/slinger-trick-or-treat-10-25-2014-3262
END:VEVENT

END:VCALENDAR
