BEGIN:VCALENDAR
VERSION:2.0
PRODID:-//ChamberMaster//Event Calendar 2.0//EN
METHOD:PUBLISH
X-PUBLISHED-TTL:P3D
REFRESH-INTERVAL:P3D
CALSCALE:GREGORIAN
BEGIN:VEVENT
DTSTART:20140911T123000Z
DTEND:20140911T173000Z
X-MICROSOFT-CDO-ALLDAYEVENT:FALSE
SUMMARY:Skills Refresher - Future Hartford
DESCRIPTION:Refresh Your Skills! \n\nFuture Hartford Leadership Program\n\n \n\nYou're Invited!  For a program review and skills refresher.\n\nJoin us for the morning session and invest in yourself or a member of your team! \n\n \n\n SESSION ONE: The Challenge of a Multi-Generational Workforce\n\nAttendees will participate in the opening session of the Future Hartford Leadership Program and take away valuable information on operating effectively within a diverse workforce.\n\n \n\nSESSION TWO: Working Together as a Team through Art \n\nParticipants will learn how basic artistic elements come together to work effectively in a team environment.  Much like the way a group comes together\, the artist will showcase how different painting techniques come together in balance to create a finished work of art similar to a group project. \n\n \n\nClick HERE for the flyer with complete details!
X-ALT-DESC;FMTTYPE=text/html:<p><span style="font-size:16px\;"><span style="color: rgb(0\, 102\, 102)\;"><span style="font-family: elephant\;"><span style="font-size:22px\;">Refresh Your Skills! </span><br />\nFuture Hartford Leadership Program</span></span></span><br />\n&nbsp\;<br />\n<span style="font-size:16px\;"><span style="font-weight: bold\;"><span style="font-family: candara\;">You&rsquo\;re Invited!&nbsp\; For a program review and skills refresher.</span></span></span><br />\n<span style="font-size:14px\;"><span style="font-weight: bold\;"><span style="font-family: candara\;">Join us for the morning session and invest in yourself or a member of your team! </span></span></span><br />\n&nbsp\;<br />\n&nbsp\;<span style="font-weight:bold\;language:EN\;"><span style="color:#336666\;"><span style="font-family:candara\;"><span style="font-size:12.0pt\;">SESSION ONE: The Challenge of a Multi-Generational Workforce</span></span></span></span><br />\n<span style="language:EN\;"><span style="font-family:candara\;">Attendees will participate in the opening session of the Future Hartford Leadership Program and take away valuable information on operating effectively within a diverse workforce.</span></span><br />\n&nbsp\;<br />\n<span style="font-weight:bold\;language:EN\;"><span style="color:#336666\;"><span style="font-family:candara\;"><span style="font-size:12.0pt\;">SESSION TWO: Working Together as a Team through Art </span></span></span></span><br />\n<span style="language:EN\;"><span style="font-family:candara\;">Participants will learn how basic artistic elements come together to work effectively in a team environment.&nbsp\; Much like the way a group comes together\, the artist will showcase how different painting techniques come together in balance to create a finished work of art similar to a group project. </span></span><br />\n&nbsp\;<br />\nClick <a href="http://cloud.chambermaster.com/userfiles/UserFiles/chambers/898/File/flyer-FHSkillsRefresher091120141.pdf" target="_blank">HERE</a> for the flyer with complete details!<br />\n<br />\n<br />\n&nbsp\;</p>\n
LOCATION:Pikes Peak Schauer Arts Center 147 N. Rural Street Hartford\, WI
UID:e.898.3231
SEQUENCE:3
DTSTAMP:20260420T214840Z
URL:https://cm.hartfordchamber.org/events/details/skills-refresher-future-hartford-09-11-2014-3231
END:VEVENT

END:VCALENDAR
