BEGIN:VCALENDAR
VERSION:2.0
PRODID:-//ChamberMaster//Event Calendar 2.0//EN
METHOD:PUBLISH
X-PUBLISHED-TTL:P3D
REFRESH-INTERVAL:P3D
CALSCALE:GREGORIAN
BEGIN:VEVENT
DTSTART:20141006T140000Z
DTEND:20141006T160000Z
X-MICROSOFT-CDO-ALLDAYEVENT:FALSE
SUMMARY:Shoo the Flu Clinic!
DESCRIPTION:Shoo the Flu Clinic!\n\n\n\nBring your medicare cards!  You will need to fill in a form when you arrive.\n\n\n\nNo appointment necessary for the flu shot! \n\n\n\nShingle shots available if you pre-register. \n\n\n\nCall for details.  2625-673-4005\n\n\n\nSponsored by Pick N Save.
X-ALT-DESC;FMTTYPE=text/html:Shoo the Flu Clinic!<br />\n<br />\nBring your medicare cards!&nbsp\; You will need to fill in a form when you arrive.<br />\n<br />\nNo appointment necessary for the flu shot!&nbsp\;<br />\n<br />\nShingle shots available if you pre-register.&nbsp\;<br />\n<br />\nCall for details.&nbsp\; 2625-673-4005<br />\n<br />\nSponsored by Pick N Save.
LOCATION:Hartford Senior Center 730 Highland Avenue Hartford\, WI 53027
UID:e.898.3256
SEQUENCE:3
DTSTAMP:20260420T200057Z
URL:https://cm.hartfordchamber.org/events/details/shoo-the-flu-clinic-10-06-2014-3256
END:VEVENT

END:VCALENDAR
