BEGIN:VCALENDAR
VERSION:2.0
PRODID:-//ChamberMaster//Event Calendar 2.0//EN
METHOD:PUBLISH
X-PUBLISHED-TTL:P3D
REFRESH-INTERVAL:P3D
CALSCALE:GREGORIAN
BEGIN:VEVENT
DTSTART:20161015T140000Z
DTEND:20161016T200000Z
X-MICROSOFT-CDO-ALLDAYEVENT:FALSE
SUMMARY:Rummage-A-Rama!
DESCRIPTION:Is an indoor flea-market-rummage-sale event held four times a year (Saturday 9-4\, Sunday 9-3) at the Washington County Fair Park\, featuring: hobby items\, crafts\, antiques\, and collectables from local dealers overstock\, closeouts\, and flea-market finds from local business owners personal rummage sales by everyday people Rummage-A-Rama! features a collection of over 100 different sellers and a wide variety of items.
X-ALT-DESC;FMTTYPE=text/html:Is an indoor flea-market-rummage-sale event held four times a year (Saturday 9-4\, Sunday 9-3) at the&nbsp\;Washington County Fair Park\, featuring: hobby items\, crafts\, antiques\, and collectables from local dealers overstock\, closeouts\, and flea-market finds from local business owners personal rummage sales by everyday people Rummage-A-Rama! features a collection of over 100 different sellers and a wide variety of items.
LOCATION:Washington County Fair Park
UID:e.898.3677
SEQUENCE:3
DTSTAMP:20260421T090637Z
URL:https://cm.hartfordchamber.org/events/details/rummage-a-rama-10-15-2016-3677
END:VEVENT

END:VCALENDAR
