BEGIN:VCALENDAR
VERSION:2.0
PRODID:-//ChamberMaster//Event Calendar 2.0//EN
METHOD:PUBLISH
X-PUBLISHED-TTL:P3D
REFRESH-INTERVAL:P3D
CALSCALE:GREGORIAN
BEGIN:VEVENT
DTSTART:20160603T213000Z
DTEND:20160605T040000Z
X-MICROSOFT-CDO-ALLDAYEVENT:FALSE
SUMMARY:Riverfest: West Bend's Premier Food & Music Festival
DESCRIPTION:This won't be your Mom's Riverfest!\n\nFriday\, June 3: 5:00 pm to 8:00 pm\n\nCopper Box 8:30 pm - 11:00 pm\n\nThe Whiskeybelles Food Trucks: The Gouda Girls Truck Cream City Cr pes\n\nMore TBA Saturday\, June 4: 11:00 am - 12:00 pm River City Blaskapelle Noon - West Bend Dance Tumbling Troupe 12:30 pm - 2:30 pm Extra Crispy Brass Band 3:00 pm - 5:00 pm Honest Monday 5:30 pm - 7:30 pm Low Down Sound 8:00 pm - 11:00 pm 5 Card Studs Food Trucks: Buddha's BBQ Simmer Milwaukee Burgermeister Food Truck Beer\, wine\, soda and water available for purchase during the entire event.
X-ALT-DESC;FMTTYPE=text/html:This won&#39\;t be your Mom&#39\;s Riverfest!<br />\nFriday\, June 3: 5:00 pm to 8:00 pm<br />\nCopper Box 8:30 pm - 11:00 pm<br />\nThe Whiskeybelles Food Trucks: The Gouda Girls Truck Cream City Cr&ecirc\;pes<br />\nMore TBA Saturday\, June 4: 11:00 am - 12:00 pm River City Blaskapelle Noon - West Bend Dance Tumbling Troupe 12:30 pm - 2:30 pm Extra Crispy Brass Band 3:00 pm - 5:00 pm Honest Monday 5:30 pm - 7:30 pm Low Down Sound 8:00 pm - 11:00 pm&nbsp\;5 Card Studs Food Trucks: Buddha&#39\;s BBQ Simmer Milwaukee Burgermeister Food Truck Beer\, wine\, soda and water available for purchase during the entire event.
LOCATION:Regner Park\, West Bend\, WI
UID:e.898.3621
SEQUENCE:3
DTSTAMP:20260421T153833Z
URL:https://cm.hartfordchamber.org/events/details/riverfest-west-bend-s-premier-food-music-festival-06-03-2016-3621
END:VEVENT

END:VCALENDAR
