BEGIN:VCALENDAR
VERSION:2.0
PRODID:-//ChamberMaster//Event Calendar 2.0//EN
METHOD:PUBLISH
X-PUBLISHED-TTL:P3D
REFRESH-INTERVAL:P3D
CALSCALE:GREGORIAN
BEGIN:VEVENT
DTSTART:20160719T233000Z
DTEND:20160720T010000Z
X-MICROSOFT-CDO-ALLDAYEVENT:FALSE
SUMMARY:River City Irregulars Band Concert
DESCRIPTION:Enjoy a summer evening performance of the West Bend Community Band\, the River City Irregulars\, on the Washington County Veterans' Memorial Plaza. Admission is free and all ages are welcome. Bring a chair or blanket.
X-ALT-DESC;FMTTYPE=text/html:Enjoy a summer evening performance of the West Bend Community Band\, the River City Irregulars\, on the Washington County Veterans&rsquo\; Memorial Plaza. Admission is free and all ages are welcome. Bring a chair or blanket.
LOCATION:the Old Courthouse Museum 320 S 5th Ave West Bend 53095
UID:e.898.3729
SEQUENCE:3
DTSTAMP:20260421T152602Z
URL:https://cm.hartfordchamber.org/events/details/river-city-irregulars-band-concert-07-19-2016-3729
END:VEVENT

END:VCALENDAR
