BEGIN:VCALENDAR
VERSION:2.0
PRODID:-//ChamberMaster//Event Calendar 2.0//EN
METHOD:PUBLISH
X-PUBLISHED-TTL:P3D
REFRESH-INTERVAL:P3D
CALSCALE:GREGORIAN
BEGIN:VEVENT
DTSTART:20140817T130000Z
DTEND:20140817T200000Z
X-MICROSOFT-CDO-ALLDAYEVENT:FALSE
SUMMARY:Pleasant Valley Indian Artifact Show
DESCRIPTION:Pleasant Valley\n\nIndian Artifact Show \n\nlocated in the Ziegler Family Expo Center
X-ALT-DESC;FMTTYPE=text/html:<span style="font-size:16px\;"><strong>Pleasant Valley<br />\nIndian Artifact Show </strong></span><br />\nlocated in the Ziegler Family Expo Center
LOCATION:Washington County Fair Park & Conference Center 3000 Hwy PV West Bend
UID:e.898.3212
SEQUENCE:3
DTSTAMP:20260420T234433Z
URL:https://cm.hartfordchamber.org/events/details/pleasant-valley-indian-artifact-show-08-17-2014-3212
END:VEVENT

END:VCALENDAR
