BEGIN:VCALENDAR
VERSION:2.0
PRODID:-//ChamberMaster//Event Calendar 2.0//EN
METHOD:PUBLISH
X-PUBLISHED-TTL:P3D
REFRESH-INTERVAL:P3D
CALSCALE:GREGORIAN
BEGIN:VEVENT
DTSTART:20160811T140000Z
DTEND:20160811T170000Z
X-MICROSOFT-CDO-ALLDAYEVENT:FALSE
SUMMARY:Pioneer Kids Day: "Down on the Farm"
DESCRIPTION:Children entering 1st through 5th grades this fall are invited to learn about life on a farm. Activities include washing clothes\, grinding corn\, milking a cow\, and making a button spinner. $6/child before Aug 1. $7/child Aug 1 & after. Free for children of WCHS members at Family Level or higher. Registration required by August 11. Register online: http://events.constantcontact.com/register/event?llr=9grf65jab&oeidk=a07eck964ojb5d3db39 Register by mail: http://www.historyisfun.com/wp-content/uploads/2016/02/PKDregsheet2016.pdf Children can be dropped off after 8:45am. Contact Jessica education@historyisfun.com or (262) 335-4678. Presented by Washington County Historical Society\, Inc. Sponsored in part by West Bend Noon Kiwanis
X-ALT-DESC;FMTTYPE=text/html:Children entering 1st through 5th grades this fall are invited to learn about life on a farm. Activities include washing clothes\, grinding corn\, milking a cow\, and making a button spinner. $6/child before Aug 1. $7/child Aug 1 &amp\; after. Free for children of WCHS members at Family Level or higher. Registration required by August 11. Register online: http://events.constantcontact.com/register/event?llr=9grf65jab&amp\;oeidk=a07eck964ojb5d3db39 Register by mail: http://www.historyisfun.com/wp-content/uploads/2016/02/PKDregsheet2016.pdf Children can be dropped off after 8:45am. Contact Jessica education@historyisfun.com or (262) 335-4678. Presented by Washington County Historical Society\, Inc. Sponsored in part by West Bend Noon Kiwanis
LOCATION:the Old Courthouse Museum 320 S 5th Ave West Bend 53095
UID:e.898.3730
SEQUENCE:3
DTSTAMP:20260421T122557Z
URL:https://cm.hartfordchamber.org/events/details/pioneer-kids-day-down-on-the-farm-08-11-2016-3730
END:VEVENT

END:VCALENDAR
