BEGIN:VCALENDAR
VERSION:2.0
PRODID:-//ChamberMaster//Event Calendar 2.0//EN
METHOD:PUBLISH
X-PUBLISHED-TTL:P3D
REFRESH-INTERVAL:P3D
CALSCALE:GREGORIAN
BEGIN:VEVENT
DTSTART:20160920T233000Z
DTEND:20160921T003000Z
X-MICROSOFT-CDO-ALLDAYEVENT:FALSE
SUMMARY:Pioneer Church Records of Jackson
DESCRIPTION:Royal Natzke of the Jackson Historical Society will share stories collected for his book\, "Pioneer Church Records Speak: Immanuel Lutheran Church Jackson\, Wisconsin\, 1847-1974." Organized in 1847\, Immanuel Lutheran Church in Kirchayn was among the first ten Lutheran Churches to organize in Wisconsin. It also was part of the second group of congregations to join the then one-year-old Lutheran Church Missouri Synod in 1848. Its story is important to Wisconsin as well as church history. Copies of his book will be available for purchase. Program is free and all ages are welcome.
X-ALT-DESC;FMTTYPE=text/html:Royal Natzke of the Jackson Historical Society will share stories collected for his book\, &ldquo\;Pioneer Church Records Speak: Immanuel Lutheran Church Jackson\, Wisconsin\, 1847-1974.&rdquo\; Organized in 1847\, Immanuel Lutheran Church in Kirchayn was among the first ten Lutheran Churches to organize in Wisconsin. It also was part of the second group of congregations to join the then one-year-old Lutheran Church Missouri Synod in 1848. Its story is important to Wisconsin as well as church history. Copies of his book will be available for purchase. Program is free and all ages are welcome.
LOCATION:The History Center of Washington County 320 S 5th Ave West Bend 53095
UID:e.898.3746
SEQUENCE:3
DTSTAMP:20260421T103202Z
URL:https://cm.hartfordchamber.org/events/details/pioneer-church-records-of-jackson-3746
END:VEVENT

END:VCALENDAR
