BEGIN:VCALENDAR
VERSION:2.0
PRODID:-//ChamberMaster//Event Calendar 2.0//EN
METHOD:PUBLISH
X-PUBLISHED-TTL:P3D
REFRESH-INTERVAL:P3D
CALSCALE:GREGORIAN
BEGIN:VEVENT
DTSTART:20140607T130000Z
DTEND:20140607T170000Z
X-MICROSOFT-CDO-ALLDAYEVENT:FALSE
SUMMARY:Pike Lake Discovery Day
DESCRIPTION:Family - Friendly fun event at Pike Lake!\n\n\n\n\n\nFree fishing and free park admission weekend!\n\n \n\n	Meet Smokey Bear\n	See and touch amazing animal furs\n	Learn archery with the Washington County warden\n	Geocaching - bring your GPS\n	Kayaking demonstration\n	Learn about reptiles and amphibians\n	Make fun shirt prints using fish\, leaves\, flowers and more\n	Northern Cross Astronomers - sharing solar scopes in the parking lot\n\n\n\nBring your binoculars for a guided bird hike at 8:00 am\n\nParticipate in a guided scavenger hunt hike at 10:00 am\n\n\n\nSupported by Friends of Pike Lake
X-ALT-DESC;FMTTYPE=text/html:<br />\n<strong><span style="font-size: 14px\;">Family - Friendly fun event at Pike Lake!</span></strong><br />\n<br />\n<br />\n<span style="color: rgb(165\, 42\, 42)\;"><span style="font-size: 14px\;">Free fishing and free park admission weekend!</span></span><br />\n&nbsp\;\n<ul>\n	<li>Meet Smokey Bear</li>\n	<li>See and touch amazing animal furs</li>\n	<li>Learn archery with the Washington County warden</li>\n	<li>Geocaching - bring your GPS</li>\n	<li>Kayaking demonstration</li>\n	<li>Learn about reptiles and amphibians</li>\n	<li>Make fun shirt prints using fish\, leaves\, flowers and more</li>\n	<li>Northern Cross Astronomers - sharing solar scopes in the parking lot</li>\n</ul>\n<br />\nBring your binoculars for a guided bird hike at 8:00 am<br />\nParticipate in a guided scavenger hunt hike at 10:00 am<br />\n<br />\nSupported by Friends of Pike Lake<br />\n&nbsp\;
LOCATION:Kettle Moraine State Forest - Pike Lake Unit 3544 Kettle Moraine Road Hartford
UID:e.898.3108
SEQUENCE:3
DTSTAMP:20260421T032538Z
URL:https://cm.hartfordchamber.org/events/details/pike-lake-discovery-day-06-07-2014-3108
END:VEVENT

END:VCALENDAR
