BEGIN:VCALENDAR
VERSION:2.0
PRODID:-//ChamberMaster//Event Calendar 2.0//EN
METHOD:PUBLISH
X-PUBLISHED-TTL:P3D
REFRESH-INTERVAL:P3D
CALSCALE:GREGORIAN
BEGIN:VEVENT
DTSTART:20141213T170000Z
DTEND:20141213T200000Z
X-MICROSOFT-CDO-ALLDAYEVENT:FALSE
SUMMARY:PHOTO WITH SANTA
DESCRIPTION:FREE PHOTO WITH SANTA\n\nCamera Case Wireless\n\n\n\n1336 E. Sumner St. Hartford\n\n262-673-3190\n\nSaturday Dec. 13th 11 AM- 2PM\n\n\n\nClick HERE for flyer
X-ALT-DESC;FMTTYPE=text/html:<span style="color:#B22222\;"><span style="font-size: 14px\;">FREE PHOTO WITH SANTA</span></span><br />\nCamera Case Wireless<br />\n<br />\n1336 E. Sumner St. Hartford<br />\n262-673-3190<br />\nSaturday Dec. 13th 11 AM- 2PM<br />\n<br />\nClick <a href="http://cloud.chambermaster.com/userfiles/UserFiles/chambers/898/File/CameraCaseSANTA.pdf" target="_blank">HERE</a> for flyer
LOCATION:
UID:e.898.3285
SEQUENCE:3
DTSTAMP:20260420T183634Z
URL:https://cm.hartfordchamber.org/events/details/photo-with-santa-12-13-2014-3285
END:VEVENT

END:VCALENDAR
