BEGIN:VCALENDAR
VERSION:2.0
PRODID:-//ChamberMaster//Event Calendar 2.0//EN
METHOD:PUBLISH
X-PUBLISHED-TTL:P3D
REFRESH-INTERVAL:P3D
CALSCALE:GREGORIAN
BEGIN:VEVENT
DTSTART:20150321T160000Z
DTEND:20150321T180000Z
X-MICROSOFT-CDO-ALLDAYEVENT:FALSE
SUMMARY:PHOTO W/ EASTER BUNNY
DESCRIPTION:PHOTO WITH THE EASTER BUNNY\n\nat Camera Case Wireless\n\nSaturday\, March 21\, 2015\n\n11 am - 1pm Hartford 1336 E Sumner St.\n\n2 pm - 3:30 pm West Bend 1323 W. Paradise Dr.
X-ALT-DESC;FMTTYPE=text/html:PHOTO WITH THE EASTER BUNNY<br />\nat Camera Case Wireless<br />\nSaturday\, March&nbsp\;21\, 2015<br />\n11 am - 1pm Hartford 1336 E Sumner St.<br />\n2 pm - 3:30 pm West Bend 1323 W. Paradise Dr.
LOCATION:CAMERA CASE WIRELESS 1336 E. Sumner St.\, Hartford 1323 W. Paradise Dr.\, West Bend
UID:e.898.3365
SEQUENCE:3
DTSTAMP:20260420T134250Z
URL:https://cm.hartfordchamber.org/events/details/photo-w-easter-bunny-03-21-2015-3365
END:VEVENT

END:VCALENDAR
