BEGIN:VCALENDAR
VERSION:2.0
PRODID:-//ChamberMaster//Event Calendar 2.0//EN
METHOD:PUBLISH
X-PUBLISHED-TTL:P3D
REFRESH-INTERVAL:P3D
CALSCALE:GREGORIAN
BEGIN:VEVENT
DTSTART:20140526T160000Z
DTEND:20140526T163000Z
X-MICROSOFT-CDO-ALLDAYEVENT:FALSE
SUMMARY:Parade-Memorial Day
DESCRIPTION:Memorial Day Parade & Activities\n\nMonday\, May 26\, 2014\n\nDowntown Hartford\n\n\n\nParade route starts at Main and High Streets\,\n\nand travels south on Main to Sawyer Park.\n\n \n\n	10:00 am - Memorial Service at the City Hall bridge on Main Street.\n	10:15 am - Wreath laying and rifle salute at the Vietnam Veterans Memorial on the corner of Wisconsin and Main Streets.\n	11:00 am - Parade\n	11:30 am - Memorial Service at Sawyer Park with live broadcast by WTKM\n\n\n\nPerformance by the Hartford City Band between the parade and the ceremony.
X-ALT-DESC;FMTTYPE=text/html:<strong><span style="font-size:16px\;">Memorial Day Parade &amp\; Activities</span><br />\nMonday\, May 26\, 2014</strong><br />\nDowntown Hartford<br />\n<br />\nParade route starts at Main and High Streets\,<br />\nand travels south on Main to Sawyer Park.<br />\n&nbsp\;\n<ul>\n	<li>10:00 am - Memorial Service at the City Hall bridge on Main Street.</li>\n	<li>10:15 am - Wreath laying and rifle salute at the Vietnam Veterans Memorial on the corner of Wisconsin and Main Streets.</li>\n	<li>11:00 am - Parade</li>\n	<li>11:30 am - Memorial Service at Sawyer Park with live broadcast&nbsp\;by WTKM</li>\n</ul>\n<br />\nPerformance by the Hartford City Band between the parade and the ceremony.
LOCATION:Main Street to Sawyer Park
UID:e.898.3120
SEQUENCE:3
DTSTAMP:20260421T051000Z
URL:https://cm.hartfordchamber.org/events/details/parade-memorial-day-05-26-2014-3120
END:VEVENT

END:VCALENDAR
