BEGIN:VCALENDAR
VERSION:2.0
PRODID:-//ChamberMaster//Event Calendar 2.0//EN
METHOD:PUBLISH
X-PUBLISHED-TTL:P3D
REFRESH-INTERVAL:P3D
CALSCALE:GREGORIAN
BEGIN:VEVENT
DTSTART:20140503T150000Z
DTEND:20140503T190000Z
X-MICROSOFT-CDO-ALLDAYEVENT:FALSE
SUMMARY:Outdoor Adventure Day!
DESCRIPTION:Join the staff of Pike Lake as they conduct campfire safety with Smokey Bear!
X-ALT-DESC;FMTTYPE=text/html:<br />\nJoin the staff of Pike Lake as they conduct campfire safety with Smokey Bear!
LOCATION:Cabela's in Richfield 1 Cabela Way Richfield\, WI 53076
UID:e.898.3109
SEQUENCE:3
DTSTAMP:20260421T051139Z
URL:https://cm.hartfordchamber.org/events/details/outdoor-adventure-day-05-03-2014-3109
END:VEVENT

END:VCALENDAR
