BEGIN:VCALENDAR
VERSION:2.0
PRODID:-//ChamberMaster//Event Calendar 2.0//EN
METHOD:PUBLISH
X-PUBLISHED-TTL:P3D
REFRESH-INTERVAL:P3D
CALSCALE:GREGORIAN
BEGIN:VEVENT
DTSTART:20160611T150000Z
DTEND:20160611T210000Z
X-MICROSOFT-CDO-ALLDAYEVENT:FALSE
SUMMARY:Organic & Craft Spring Bazaar
DESCRIPTION:You may have heard rumors of a local "nudist camp" but have you ever checked us out? Here's your chance! \n\n\n\nWe consider ourselves "naturalist naturists". In our belief- we want to be good stewards to the earth\, insects and each other. Our basis for existing is gardening and whether you have clothing on or off is of no consideration. It is the respect you show others by words and actions that matter.\n\n\n\nOvert sexual displays are not allowed\, the use of towels is followed for sanitary reasons with a "No Picture" policy to ensure a "toadally" de-stressing experience! So come on over\, take a tour of the grounds\, ask questions\, listen to the lively sounds of the "Mad City Hat Band" and patronize the vendor booths.\n\n\n\n(Vendor booths still available-$25)
X-ALT-DESC;FMTTYPE=text/html:You may have heard rumors of a local&nbsp\;&quot\;nudist camp&quot\; but have you ever checked us out? Here&#39\;s your chance!&nbsp\;<br />\n<br />\nWe consider ourselves &quot\;naturalist naturists&quot\;. In our belief- we want to be good stewards&nbsp\;to the earth\, insects&nbsp\;and each other. Our basis for existing is gardening and whether you have clothing on or off is of no consideration. It is&nbsp\;the respect you show others by words and actions that&nbsp\;matter.<br />\n<br />\nOvert sexual displays are not allowed\, the use of towels&nbsp\;is followed for sanitary reasons&nbsp\;with a &quot\;No Picture&quot\; policy to&nbsp\;ensure a &quot\;toadally&quot\; de-stressing experience!&nbsp\;So come on over\, take a tour of the grounds\, ask questions\, listen to the lively sounds of&nbsp\;the &quot\;Mad City Hat Band&quot\; and&nbsp\;patronize the&nbsp\;vendor booths.<br />\n<br />\n(Vendor booths still available-$25)
LOCATION:Toadally Natural Garden\, 6601 County Road K\, Hartford\, WI 53027
UID:e.898.3675
SEQUENCE:3
DTSTAMP:20260421T153935Z
URL:https://cm.hartfordchamber.org/events/details/organic-craft-spring-bazaar-06-11-2016-3675
END:VEVENT

END:VCALENDAR
