BEGIN:VCALENDAR
VERSION:2.0
PRODID:-//ChamberMaster//Event Calendar 2.0//EN
METHOD:PUBLISH
X-PUBLISHED-TTL:P3D
REFRESH-INTERVAL:P3D
CALSCALE:GREGORIAN
BEGIN:VEVENT
DTSTART:20140730T210000Z
DTEND:20140731T010000Z
X-MICROSOFT-CDO-ALLDAYEVENT:FALSE
SUMMARY:Open House - Majestic Heights Assisted Living
DESCRIPTION:Majestic Heights Assisted Living\n\n\n\n"A place to call home"\n\n\n\nPlease join us for refreshments and a tour!
X-ALT-DESC;FMTTYPE=text/html:<strong><span style="font-size:18px\;">Majestic Heights Assisted Living</span></strong><br />\n<br />\n&quot\;A place to call home&quot\;<br />\n<br />\nPlease join us for refreshments and a tour!
LOCATION:85 South Wacker Drive Hartford\, WI 53027
UID:e.898.3209
SEQUENCE:3
DTSTAMP:20260421T032304Z
URL:https://cm.hartfordchamber.org/events/details/open-house-majestic-heights-assisted-living-07-30-2014-3209
END:VEVENT

END:VCALENDAR
