BEGIN:VCALENDAR
VERSION:2.0
PRODID:-//ChamberMaster//Event Calendar 2.0//EN
METHOD:PUBLISH
X-PUBLISHED-TTL:P3D
REFRESH-INTERVAL:P3D
CALSCALE:GREGORIAN
BEGIN:VEVENT
DTSTART:20140607T150000Z
DTEND:20140607T210000Z
X-MICROSOFT-CDO-ALLDAYEVENT:FALSE
SUMMARY:Naturism-For Women Only
DESCRIPTION:Naturism- For Women Only  \n\n                           \n\n*Clothing Optional\n\n10:00 am to 4:00 pm\n\n\n\nGuided Meditation\n\n\n\nPlant Identification emphasizing wild edibles\n\n\n\nLunch consisting of garden greens\, wild greens\, leaves\, flowers and other edibles & nonalcoholic beverages\n\n\n\nA word from Nicky Hoffman\, president of The Naturist Society\n\n\n\nBeginner Yoga\n\n\n\nCelebration Dance\n\n\n\n$40 Donation per person at door * DISCOUNTS Available\n\nAdvance Registration Required by June 4th
X-ALT-DESC;FMTTYPE=text/html:<span style="font-family: Calibri\;"><span style="font-size: 10pt\;"><strong><span style="text-decoration: underline\;">Naturism- For Women Only</span></strong><span>&nbsp\;&nbsp\;<br />\n&nbsp\;&nbsp\;&nbsp\;&nbsp\;&nbsp\;&nbsp\;&nbsp\;&nbsp\;&nbsp\;&nbsp\;&nbsp\;&nbsp\;&nbsp\;&nbsp\;&nbsp\;&nbsp\;&nbsp\;&nbsp\;&nbsp\;&nbsp\;&nbsp\;&nbsp\;&nbsp\;&nbsp\;&nbsp\;&nbsp\;&nbsp\;</span><br />\n*Clothing Optional</span></span><br />\n<span style="font-size: 10pt\;"><span style="font-family: Calibri\;">10:00 am to 4:00 pm<br />\n<br />\nGuided</span></span><span style="font-size: 10pt\;"><span style="font-family: Calibri\;"> Meditation</span></span><br />\n<br />\n<span style="font-size: 10pt\;"><span style="font-family: Calibri\;">Plant Identification emphasizing wild edibles<br />\n<br />\nLunch</span></span><span style="font-size: 10pt\;"><span style="font-family: Calibri\;"> consisting of garden greens\, wild greens\, leaves\, </span></span><span style="font-size: 10pt\;"><span style="font-family: Calibri\;">flowers and other edibles &amp\; nonalcoholic beverages</span></span><br />\n<br />\n<span style="font-size: 10pt\;"><span style="font-family: Calibri\;">A word from Nicky Hoffman\, president of The Naturist Society</span></span><br />\n<br />\n<span style="font-size: 10pt\;"><span style="font-family: Calibri\;">Beginner Yoga</span></span><br />\n<br />\n<span style="font-size: 10pt\;"><span style="font-family: Calibri\;">Celebration Dance</span></span><br />\n<br />\n<span style="font-size: 10pt\;"><span style="font-family: Calibri\;">$40 Donation per person at door <strong><span style="color: red\;">* DISCOUNTS</span></strong></span></span> Available<br />\n<strong><span style="font-size: 10pt\;"><span style="font-family: Calibri\;">Advance Registration Required by June 4th</span></span></strong><br />\n<br />\n&nbsp\;
LOCATION:Toadally Natural Garden 6601 County Road K Hartford\, WI 53027
UID:e.898.3135
SEQUENCE:3
DTSTAMP:20260421T032916Z
URL:https://cm.hartfordchamber.org/events/details/naturism-for-women-only-06-07-2014-3135
END:VEVENT

END:VCALENDAR
