BEGIN:VCALENDAR
VERSION:2.0
PRODID:-//ChamberMaster//Event Calendar 2.0//EN
METHOD:PUBLISH
X-PUBLISHED-TTL:P3D
REFRESH-INTERVAL:P3D
CALSCALE:GREGORIAN
BEGIN:VEVENT
DTSTART:20140511T170000Z
DTEND:20140512T030000Z
X-MICROSOFT-CDO-ALLDAYEVENT:FALSE
SUMMARY:Movies for Mom!
DESCRIPTION:Movies for Mom!\n\n\n\nThis Mother's Day\,\n\ntake mom to the movies on Sunday\, May 11. \n\n\n\nMom's get in FREE when accompanied by their child/children.\n\n\n\nSchubert's Hartford Theatre\n\n1361 S. Grand Avenue\n\nHartford
X-ALT-DESC;FMTTYPE=text/html:<span style="font-size:18px\;"><strong>Movies for Mom!</strong></span><br />\n<br />\nThis Mother&#39\;s Day\,<br />\ntake mom to the movies on Sunday\, May 11.&nbsp\;<br />\n<br />\nMom&#39\;s get in FREE when accompanied by their child/children.<br />\n<br />\n<strong>Schubert&#39\;s Hartford Theatre</strong><br />\n1361 S. Grand Avenue<br />\nHartford&nbsp\;&nbsp\;&nbsp\;&nbsp\;
LOCATION:Schubert's Hartford Theatre 1361 S. Grand Avenue Hartford
UID:e.898.3112
SEQUENCE:3
DTSTAMP:20260421T052156Z
URL:https://cm.hartfordchamber.org/events/details/movies-for-mom-05-11-2014-3112
END:VEVENT

END:VCALENDAR
