BEGIN:VCALENDAR
VERSION:2.0
PRODID:-//ChamberMaster//Event Calendar 2.0//EN
METHOD:PUBLISH
X-PUBLISHED-TTL:P3D
REFRESH-INTERVAL:P3D
CALSCALE:GREGORIAN
BEGIN:VEVENT
DTSTART:20161005T123000Z
DTEND:20161005T223000Z
X-MICROSOFT-CDO-ALLDAYEVENT:FALSE
SUMMARY:Milwaukee Landmarks Bus Trip
DESCRIPTION:Sit back and relax during the East Side Step-On Tour. After lunch at Miss Katie's Diner\, visit the Milwaukee Public Museum and experience the new additions to the beloved "Streets of Old Milwaukee." End at Clock Shadow Creamery to sample old European cheese. $55/person. Includes: motor coach\, lunch\, admission fees. Two pick-up/drop-offs: West Bend and Richfield. Limited space available! Register by September 9. Register ONLINE or BY MAIL\, go to www.HistoryIsFun.com. Click on "Visit\," then "Events." Register IN PERSON at the Old Courthouse Museum\, 320 S 5th Ave (cash\, check\, credit card). Register BY PHONE with a credit card call (262) 335-4678.
X-ALT-DESC;FMTTYPE=text/html:Sit back and relax during the East Side Step-On Tour. After lunch at Miss Katie&rsquo\;s Diner\, visit the Milwaukee Public Museum and experience the new additions to the beloved &ldquo\;Streets of Old Milwaukee.&rdquo\; End at Clock Shadow Creamery to sample old European cheese. $55/person. Includes: motor coach\, lunch\, admission fees. Two pick-up/drop-offs: West Bend and Richfield. Limited space available! Register by September 9. Register ONLINE or BY MAIL\, go to www.HistoryIsFun.com. Click on &ldquo\;Visit\,&rdquo\; then &ldquo\;Events.&rdquo\; Register IN PERSON at the Old Courthouse Museum\, 320 S 5th Ave (cash\, check\, credit card). Register BY PHONE with a credit card call (262) 335-4678.
LOCATION:The Old Courthouse Museum 320 S 5th Ave West Bend 53095
UID:e.898.3748
SEQUENCE:3
DTSTAMP:20260421T091829Z
URL:https://cm.hartfordchamber.org/events/details/milwaukee-landmarks-bus-trip-3748
END:VEVENT

END:VCALENDAR
