BEGIN:VCALENDAR
VERSION:2.0
PRODID:-//ChamberMaster//Event Calendar 2.0//EN
METHOD:PUBLISH
X-PUBLISHED-TTL:P3D
REFRESH-INTERVAL:P3D
CALSCALE:GREGORIAN
BEGIN:VEVENT
DTSTART:20140510T140000Z
DTEND:20140510T170000Z
X-MICROSOFT-CDO-ALLDAYEVENT:FALSE
SUMMARY:Melinda Myers
DESCRIPTION:Great Mothers Day Gift Idea!\n\n \n\nAuthor & Radio-TV Personality\n\nGardening Expert \n\nMelinda Myers\n\nPresents: Easy and Affordable Landscape Makeovers\n\n\n\nSaturday\, May 10 at 9:00 am\n\nSchauer Arts & Activities Center\n\n \n\nQuestions and answers.  Book signing afterwards.\n\n\n\nProceeds go toward HGC's downtown river bank project.\n\n \n\nPresented by:\n\nHartford Garden Club & Hahn Ace Hardware
X-ALT-DESC;FMTTYPE=text/html:<p><span style="font-size:24px\;"><strong><em><span style="font-weight: normal\;"><span style="color: rgb(255\, 51\, 153)\;"><span style="font-family: brush script mt\;">Great Mothers Day Gift Idea!</span></span></span></em></strong></span><br />\n&nbsp\;<br />\n<strong><span style="font-family:candara\;"><span style="font-size:13.5pt\;">Author &amp\; Radio-TV Personality</span></span></strong><br />\n<span style="font-size:24px\;"><span style="font-size:18px\;"><strong><span style="color: rgb(255\, 51\, 153)\;"><span style="font-family: candara\;">Gardening Expert </span></span></strong></span><br />\n<strong><span style="color: rgb(255\, 51\, 153)\;"><span style="font-family: candara\;">Melinda Myers</span></span></strong></span><br />\n<span style="font-size:16px\;"><span style="font-family: candara\;">Presents: Easy and Affordable Landscape Makeovers</span></span><br />\n<br />\n<span style="font-size:16px\;"><strong><span style="font-family: candara\;">Saturday\, May 10 at 9:00 am</span></strong><br />\n<strong><span style="font-family: candara\;">Schauer</span></strong><strong><span style="font-family: candara\;"> Arts &amp\; Activities Center</span></strong></span><br />\n&nbsp\;<br />\n<span style="font-size:16px\;"><span style="font-family: candara\;">Questions and answers.&nbsp\; Book signing afterwards.</span><br />\n<br />\n<strong><span style="font-family: candara\;">Proceeds go toward HGC&#39\;s downtown river bank project.</span></strong></span><br />\n&nbsp\;<br />\n<span style="font-family:candara\;">Presented by:</span><br />\n<span style="font-size:14px\;"><strong><span style="font-family: candara\;">Hartford</span></strong><strong><span style="font-family: candara\;"> Garden</span></strong><strong><span style="font-family: candara\;"> Club &amp\; Hahn Ace Hardware</span></strong></span><br />\n<br />\n&nbsp\;</p>\n
LOCATION:Schauer Arts & Activities Center 147 N. Rural Street\, Hartford
UID:e.898.3111
SEQUENCE:3
DTSTAMP:20260421T050922Z
URL:https://cm.hartfordchamber.org/events/details/melinda-myers-05-10-2014-3111
END:VEVENT

END:VCALENDAR
