BEGIN:VCALENDAR
VERSION:2.0
PRODID:-//ChamberMaster//Event Calendar 2.0//EN
METHOD:PUBLISH
X-PUBLISHED-TTL:P3D
REFRESH-INTERVAL:P3D
CALSCALE:GREGORIAN
BEGIN:VEVENT
DTSTART:20160713T130000Z
DTEND:20160714T010000Z
X-MICROSOFT-CDO-ALLDAYEVENT:FALSE
SUMMARY:Maxwell Street Day
DESCRIPTION:Downtown Hartford\n\nMaxwell Street Day\n\n\n\nShop Hartford all day!
X-ALT-DESC;FMTTYPE=text/html:<br />\n<span style="color: #006400"><span style="font-size: 16px"><strong>Downtown Hartford</strong></span></span><br />\n<span style="font-size: 20px"><span style="color: #0000cd">Maxwell Street Day</span></span><br />\n<br />\n<strong>Shop Hartford all day!</strong>
LOCATION:
UID:e.898.3615
SEQUENCE:3
DTSTAMP:20260421T134306Z
URL:https://cm.hartfordchamber.org/events/details/maxwell-street-day-07-13-2016-3615
END:VEVENT

END:VCALENDAR
