BEGIN:VCALENDAR
VERSION:2.0
PRODID:-//ChamberMaster//Event Calendar 2.0//EN
METHOD:PUBLISH
X-PUBLISHED-TTL:P3D
REFRESH-INTERVAL:P3D
CALSCALE:GREGORIAN
BEGIN:VEVENT
DTSTART:20140515T000000Z
DTEND:20140515T013000Z
X-MICROSOFT-CDO-ALLDAYEVENT:FALSE
SUMMARY:MAD DOG AND MERRILL:The Grilling Buddies
DESCRIPTION:The Hartford Public Library and Friends of the Hartford Library present MAD DOG AND MERRILL:The Grilling Buddies.\n\n\n\nWhether you are trying to come up with unique ideas for a Brewer tailgate party or just want to impress your friends with a backyard get-together\, come watch nationally recognized ?Grillologists? Mad Dog and Merrill cook up something special at the library..and sample their recipes!
X-ALT-DESC;FMTTYPE=text/html:The Hartford Public Library and Friends of the Hartford Library present MAD DOG AND MERRILL:The Grilling Buddies.<br />\n<br />\nWhether you are trying to come up with unique ideas for a Brewer tailgate party or just want to impress your friends with a backyard get-together\, come watch nationally recognized ?Grillologists? Mad Dog and Merrill cook up something special at the library..and sample their recipes!
LOCATION:Community Room Jack Russell Memorial Library 100 Park Ave.\, Hartford\, WI
UID:e.898.3107
SEQUENCE:3
DTSTAMP:20260421T051752Z
URL:https://cm.hartfordchamber.org/events/details/mad-dog-and-merrill-the-grilling-buddies-05-14-2014-3107
END:VEVENT

END:VCALENDAR
