BEGIN:VCALENDAR
VERSION:2.0
PRODID:-//ChamberMaster//Event Calendar 2.0//EN
METHOD:PUBLISH
X-PUBLISHED-TTL:P3D
REFRESH-INTERVAL:P3D
CALSCALE:GREGORIAN
BEGIN:VEVENT
DTSTART:20150721T233000Z
DTEND:20150722T010000Z
X-MICROSOFT-CDO-ALLDAYEVENT:FALSE
SUMMARY:Lizard Mound Guided Tour and Campfire
DESCRIPTION:Join the County Historical Society for a guided tour of the mounds as Cindy Leinss\, Washington County and Dr. Robert Jeske\, UW Milwaukee Anthropology Dept.\, present the history of this extraordinary site listed on the National Register of Historic Places. 8:00pm - After the tour\, join us for a family campfire to learn more about the effigy mounds. Meet at the Mounds. Free. All Ages. Contact Jessica at WCHS (262) 335-4678 or Deb at WCPP (262) 335-4445. This program is a partnership between Washington County Planning and Parks and Washington County Historical Society\, Inc.
X-ALT-DESC;FMTTYPE=text/html:Join the County Historical Society for a guided tour of the mounds as Cindy Leinss\, Washington County and Dr. Robert Jeske\, UW Milwaukee Anthropology Dept.\, present the history of this extraordinary site listed on the National Register of Historic Places. 8:00pm - After the tour\, join us for a family campfire to learn more about the effigy mounds. Meet at the Mounds. Free. All Ages. Contact Jessica at WCHS (262) 335-4678 or Deb at WCPP (262) 335-4445. This program is a partnership between Washington County Planning and Parks and Washington County Historical Society\, Inc.
LOCATION:Lizard Mound County Park 2121 County Highway A West Bend WI 53090
UID:e.898.3496
SEQUENCE:3
DTSTAMP:20260420T214932Z
URL:https://cm.hartfordchamber.org/events/details/lizard-mound-guided-tour-and-campfire-07-21-2015-3496
END:VEVENT

END:VCALENDAR
