BEGIN:VCALENDAR
VERSION:2.0
PRODID:-//ChamberMaster//Event Calendar 2.0//EN
METHOD:PUBLISH
X-PUBLISHED-TTL:P3D
REFRESH-INTERVAL:P3D
CALSCALE:GREGORIAN
BEGIN:VEVENT
DTSTART:20250712T230000Z
DTEND:20250713T020000Z
X-MICROSOFT-CDO-ALLDAYEVENT:FALSE
SUMMARY:Live Music Event
DESCRIPTION:Live Music at Sippie Hippie! Come have a cocktail and groove to some good vibes!
X-ALT-DESC;FMTTYPE=text/html:Live Music at Sippie Hippie! Come have a cocktail and groove to some good vibes!
LOCATION:319 E Washington St\, Slinger\, WI Inside Sippie Hippie!
UID:e.898.7580
SEQUENCE:3
DTSTAMP:20260424T223754Z
URL:https://cm.hartfordchamber.org/events/details/live-music-event-7580
END:VEVENT

END:VCALENDAR
