BEGIN:VCALENDAR
VERSION:2.0
PRODID:-//ChamberMaster//Event Calendar 2.0//EN
METHOD:PUBLISH
X-PUBLISHED-TTL:P3D
REFRESH-INTERVAL:P3D
CALSCALE:GREGORIAN
BEGIN:VEVENT
DTSTART:20160618T123000Z
DTEND:20160618T160000Z
X-MICROSOFT-CDO-ALLDAYEVENT:FALSE
SUMMARY:Lions Youth Fisheree
DESCRIPTION:FREE Kettle Moraine Lions Youth Fisheree\n\nAges 15 and under fishing contest with prizes\, register the morning of. Bring your own gear and bait.
X-ALT-DESC;FMTTYPE=text/html:<strong>FREE&nbsp\;</strong>Kettle Moraine Lions Youth Fisheree<br />\nAges 15 and under fishing contest with prizes\, register the morning of. Bring your&nbsp\;own gear and bait.&nbsp\;
LOCATION:Hartford Mill Pond
UID:e.898.3723
SEQUENCE:3
DTSTAMP:20260421T154514Z
URL:https://cm.hartfordchamber.org/events/details/lions-youth-fisheree-06-18-2016-3723
END:VEVENT

END:VCALENDAR
