BEGIN:VCALENDAR
VERSION:2.0
PRODID:-//ChamberMaster//Event Calendar 2.0//EN
METHOD:PUBLISH
X-PUBLISHED-TTL:P3D
REFRESH-INTERVAL:P3D
CALSCALE:GREGORIAN
BEGIN:VEVENT
DTSTART:20160730T233000Z
DTEND:20160731T033000Z
X-MICROSOFT-CDO-ALLDAYEVENT:FALSE
SUMMARY:Lee Brice with Lewis Brice
DESCRIPTION:Taking the stage on Saturday\, July 30 will be country recording artist Lee Brice. Lee started his career as a song writer prior to becoming a recording artist. Brice has been nominated at the Country Music Awards for song of the year\, single of the year\, new artist of the year and new male artist of the year. With such great singles as "Drinking Class"\, "Love Like Crazy"\, "I Don't Dance"\, "I Drive Your Truck" and "Parking Lot Party"\, fans will be treated to a great show.
X-ALT-DESC;FMTTYPE=text/html:Taking the stage on Saturday\, July 30 will be country recording artist Lee Brice. Lee started his career as a song writer prior to becoming a recording artist. Brice has been nominated at the Country Music Awards for song of the year\, single of the year\, new artist of the year and new male artist of the year. With such great singles as &ldquo\;Drinking Class&rdquo\;\, &ldquo\;Love Like Crazy&rdquo\;\, &ldquo\;I Don&rsquo\;t Dance&rdquo\;\, &ldquo\;I Drive Your Truck&rdquo\; and &ldquo\;Parking Lot Party&rdquo\;\, fans will be treated to a great show.
LOCATION:Washington County Fair Park
UID:e.898.3684
SEQUENCE:3
DTSTAMP:20260421T134438Z
URL:https://cm.hartfordchamber.org/events/details/lee-brice-with-lewis-brice-07-30-2016-3684
END:VEVENT

END:VCALENDAR
