BEGIN:VCALENDAR
VERSION:2.0
PRODID:-//ChamberMaster//Event Calendar 2.0//EN
METHOD:PUBLISH
X-PUBLISHED-TTL:P3D
REFRESH-INTERVAL:P3D
CALSCALE:GREGORIAN
BEGIN:VEVENT
DTSTART:20140917T000000Z
DTEND:20140917T013000Z
X-MICROSOFT-CDO-ALLDAYEVENT:FALSE
SUMMARY:Laundry Soap Workshop
DESCRIPTION:Learn how soap is made at this workshop.\n\n\n\nAnn Marie Craig of Century Farmhouse Soap will demonstrate the process and you'll take home a fresh bar of laundry soap to cure then use!\n\n\n\nFree samples of Century Farmhouse Soap will be given. Additional soaps will be available for purchase.\n\n\n\n$5/ WCHS members\n\n$10/ non-WCHS members\n\n\n\nRecommended for ages 10 and up.\n\n\n\nNo registration needed.
X-ALT-DESC;FMTTYPE=text/html:Learn how soap is made at this workshop.<br />\n<br />\nAnn Marie Craig of Century Farmhouse Soap will demonstrate the process and you&#39\;ll take home a fresh bar of laundry soap to cure then use!<br />\n<br />\nFree samples of Century Farmhouse Soap will be given. Additional soaps will be available for purchase.<br />\n<br />\n$5/ WCHS members<br />\n$10/ non-WCHS members<br />\n<br />\nRecommended for ages 10 and up.<br />\n<br />\nNo registration needed.
LOCATION:Old Courthouse Museum 320 S 5th Ave West Bend\, WI 53095
UID:e.898.3155
SEQUENCE:3
DTSTAMP:20260420T213700Z
URL:https://cm.hartfordchamber.org/events/details/laundry-soap-workshop-09-16-2014-3155
END:VEVENT

END:VCALENDAR
