BEGIN:VCALENDAR
VERSION:2.0
PRODID:-//ChamberMaster//Event Calendar 2.0//EN
METHOD:PUBLISH
X-PUBLISHED-TTL:P3D
REFRESH-INTERVAL:P3D
CALSCALE:GREGORIAN
BEGIN:VEVENT
DTSTART:20160309T163000Z
DTEND:20160309T183000Z
X-MICROSOFT-CDO-ALLDAYEVENT:FALSE
SUMMARY:Knit-In
DESCRIPTION:Join us for the March 9th Knit-In\, from 10:30 to 12:30. This informal group will meet\, chat\, stitch and share ideas for the upcoming Yarn Bomb. Don't know how to knit but want to participate? WCHS staff will be on hand to help beginners. Crocheters welcome! RSVP to Janean at curator@historyisfun.com or 262-335-4678.
X-ALT-DESC;FMTTYPE=text/html:Join us for the March 9th Knit-In\, from 10:30 to 12:30. This informal group will meet\, chat\, stitch and share ideas for the upcoming Yarn Bomb. Don&#39\;t know how to knit but want to participate? WCHS staff will be on hand to help beginners. Crocheters welcome! RSVP to Janean at curator@historyisfun.com or 262-335-4678.
LOCATION:the Old Courthouse Museum 320 S 5th Ave West Bend 53095
UID:e.898.3617
SEQUENCE:3
DTSTAMP:20260421T114908Z
URL:https://cm.hartfordchamber.org/events/details/knit-in-03-09-2016-3617
END:VEVENT

END:VCALENDAR
