BEGIN:VCALENDAR
VERSION:2.0
PRODID:-//ChamberMaster//Event Calendar 2.0//EN
METHOD:PUBLISH
X-PUBLISHED-TTL:P3D
REFRESH-INTERVAL:P3D
CALSCALE:GREGORIAN
BEGIN:VEVENT
DTSTART:20141012T140000Z
DTEND:20141012T200000Z
X-MICROSOFT-CDO-ALLDAYEVENT:FALSE
SUMMARY:KMBS 12th Annual Railraod Show & Swap Meet
DESCRIPTION:N and HO scale layouts from area clubs will be on display.
X-ALT-DESC;FMTTYPE=text/html:N and HO scale layouts from area clubs will be on display.
LOCATION:Washington County Fair Park & Conference Center 3000 Hwy PV West Bend
UID:e.898.3215
SEQUENCE:3
DTSTAMP:20260420T201458Z
URL:https://cm.hartfordchamber.org/events/details/kmbs-12th-annual-railraod-show-swap-meet-10-12-2014-3215
END:VEVENT

END:VCALENDAR
