BEGIN:VCALENDAR
VERSION:2.0
PRODID:-//ChamberMaster//Event Calendar 2.0//EN
METHOD:PUBLISH
X-PUBLISHED-TTL:P3D
REFRESH-INTERVAL:P3D
CALSCALE:GREGORIAN
BEGIN:VEVENT
DTSTART:20160727T000000Z
DTEND:20160727T020000Z
X-MICROSOFT-CDO-ALLDAYEVENT:FALSE
SUMMARY:Kids from Wisconsin Performance Hosted by Schauer Arts and Activities Center Inc
DESCRIPTION:
X-ALT-DESC;FMTTYPE=text/html:
LOCATION:Schuaer Arts and Activities Center at the Schauer Center: 147 N. Rural St.
UID:e.898.3626
SEQUENCE:3
DTSTAMP:20260421T153011Z
URL:https://cm.hartfordchamber.org/events/details/kids-from-wisconsin-performance-hosted-by-schauer-arts-and-activities-center-inc-07-26-2016-3626
END:VEVENT

END:VCALENDAR
