BEGIN:VCALENDAR
VERSION:2.0
PRODID:-//ChamberMaster//Event Calendar 2.0//EN
METHOD:PUBLISH
X-PUBLISHED-TTL:P3D
REFRESH-INTERVAL:P3D
CALSCALE:GREGORIAN
BEGIN:VEVENT
DTSTART:20150307T150000Z
DTEND:20150307T180000Z
X-MICROSOFT-CDO-ALLDAYEVENT:FALSE
SUMMARY:Junior Girl Scout Program: Mystery in the Museum
DESCRIPTION:The Junior Girl Scouts are called to the scene of a robbery at the Old Courthouse Museum. Complete activities and put the clues together to discovery who is the culprit! -Dust for Fingerprints -Analyze Handwriting -Learn Chromatography -Collect Trace Evidence -MORE! Who: Junior Girl Scouts (grades 4 & 5) Where: Old Courthouse Museum\, 320 S. 5th Avenue\, West Bend 53095 Fee: $9.00/Scout. Cash or check. Sorry\, we cannot process cards. Due to limited space\, only registered Junior Girl Scouts may participate. REGISTRATION and PAYMENT REQUIRED by February 27\, 2015. Download a registration sheet here (LINK to http://www.historyisfun.com/wp-content/uploads/2014/11/2015GSMysteryintheMuseumFlierRegSheet.pdf. It?s already uploaded to the website). Each Girl Scout must be registered by a parent or guardian. Troop leaders may attend for no charge but\, please\, no additional parents. Contact: Jessica (262) 335-4678 or education@historyisfun.com
X-ALT-DESC;FMTTYPE=text/html:The Junior Girl Scouts are called to the scene of a robbery at the Old Courthouse Museum. Complete activities and put the clues together to discovery who is the culprit! -Dust for Fingerprints -Analyze Handwriting -Learn Chromatography -Collect Trace Evidence -MORE! Who: Junior Girl Scouts (grades 4 &amp\; 5) Where: Old Courthouse Museum\, 320 S. 5th Avenue\, West Bend 53095 Fee: $9.00/Scout. Cash or check. Sorry\, we cannot process cards. Due to limited space\, only registered Junior Girl Scouts may participate. REGISTRATION and PAYMENT REQUIRED by February 27\, 2015. Download a registration sheet here (LINK to http://www.historyisfun.com/wp-content/uploads/2014/11/2015GSMysteryintheMuseumFlierRegSheet.pdf. It?s already uploaded to the website). Each Girl Scout must be registered by a parent or guardian. Troop leaders may attend for no charge but\, please\, no additional parents. Contact: Jessica (262) 335-4678 or education@historyisfun.com
LOCATION:320 S. 5th Ave West Bend\, WI 53095
UID:e.898.3318
SEQUENCE:3
DTSTAMP:20260420T135003Z
URL:https://cm.hartfordchamber.org/events/details/junior-girl-scout-program-mystery-in-the-museum-03-07-2015-3318
END:VEVENT

END:VCALENDAR
