BEGIN:VCALENDAR
VERSION:2.0
PRODID:-//ChamberMaster//Event Calendar 2.0//EN
METHOD:PUBLISH
X-PUBLISHED-TTL:P3D
REFRESH-INTERVAL:P3D
CALSCALE:GREGORIAN
BEGIN:VEVENT
DTSTART:20150129T150000Z
DTEND:20150129T210000Z
X-MICROSOFT-CDO-ALLDAYEVENT:FALSE
SUMMARY:Job Fair - Key Logo
DESCRIPTION:JOB FAIR\n\nThursday\, January 29\n\n9am to 3 pm\n\n\n\nKey Logo\n\n\n\nClick here for details!
X-ALT-DESC;FMTTYPE=text/html:<span style="font-size:16px\;"><strong>JOB FAIR</strong></span><br />\n<span style="font-size:14px\;">Thursday\, January 29</span><br />\n9am to 3 pm<br />\n<br />\n<strong>Key Logo</strong><br />\n<br />\nClick <a href="http://cloud.chambermaster.com/userfiles/UserFiles/chambers/898/File/copy-KeyLogoWB1292015.pdf" target="_blank">here</a> for details!
LOCATION:
UID:e.898.3320
SEQUENCE:3
DTSTAMP:20260420T152706Z
URL:https://cm.hartfordchamber.org/events/details/job-fair-key-logo-01-29-2015-3320
END:VEVENT

END:VCALENDAR
