BEGIN:VCALENDAR
VERSION:2.0
PRODID:-//ChamberMaster//Event Calendar 2.0//EN
METHOD:PUBLISH
X-PUBLISHED-TTL:P3D
REFRESH-INTERVAL:P3D
CALSCALE:GREGORIAN
BEGIN:VEVENT
DTSTART:20140514T130000Z
DTEND:20140514T210000Z
X-MICROSOFT-CDO-ALLDAYEVENT:FALSE
SUMMARY:Job Fair - Boyd Hunter
DESCRIPTION:Boyd Hunter \n\n\n\nWednesday\, May 14\n\n\n\n36 N.Johnson Street\n\nDowntown\, Hartford\n\n\n\nOne block West of Main Street
X-ALT-DESC;FMTTYPE=text/html:<br />\n<span style="font-size: 20px\;"><span style="color: rgb(165\, 42\, 42)\;"><strong>Boyd</strong></span><span style="color: rgb(0\, 100\, 0)\;"><strong> Hunter </strong></span></span><br />\n<br />\n<span style="font-size: 14px\;">Wednesday\, May 14</span><br />\n<br />\n<span style="font-size: 14px\;">36 N.Johnson Street<br />\nDowntown\, Hartford<br />\n<br />\nOne block West of Main Street</span>
LOCATION:36 N. Johnson Street Downtown\, Hartford
UID:e.898.3116
SEQUENCE:3
DTSTAMP:20260421T051945Z
URL:https://cm.hartfordchamber.org/events/details/job-fair-boyd-hunter-05-14-2014-3116
END:VEVENT

END:VCALENDAR
