BEGIN:VCALENDAR
VERSION:2.0
PRODID:-//ChamberMaster//Event Calendar 2.0//EN
METHOD:PUBLISH
X-PUBLISHED-TTL:P3D
REFRESH-INTERVAL:P3D
CALSCALE:GREGORIAN
BEGIN:VEVENT
DTSTART:20140915T233000Z
DTEND:20140916T003000Z
X-MICROSOFT-CDO-ALLDAYEVENT:FALSE
SUMMARY:Jazz Ensemble - Hartford City Band
DESCRIPTION:Join the Hartford City Band Jazz Ensemble as they perform outside at the Jack Russell Memorial Library.
X-ALT-DESC;FMTTYPE=text/html:Join the Hartford City Band Jazz Ensemble as they perform outside at the Jack Russell Memorial Library.
LOCATION:Held at: Jack Russell Memorial Library 100 Park Avenue\, Hartford
UID:e.898.3221
SEQUENCE:3
DTSTAMP:20260420T215407Z
URL:https://cm.hartfordchamber.org/events/details/jazz-ensemble-hartford-city-band-09-15-2014-3221
END:VEVENT

END:VCALENDAR
