BEGIN:VCALENDAR
VERSION:2.0
PRODID:-//ChamberMaster//Event Calendar 2.0//EN
METHOD:PUBLISH
X-PUBLISHED-TTL:P3D
REFRESH-INTERVAL:P3D
CALSCALE:GREGORIAN
BEGIN:VEVENT
DTSTART:20140517T130000Z
DTEND:20140517T220000Z
X-MICROSOFT-CDO-ALLDAYEVENT:FALSE
SUMMARY:Jackson Rummage-City Wide
DESCRIPTION:33rd annual\n\nJackson City Wide\n\nRUMMAGE\n\n\n\nSaturday\, May 17th\n\n8AM to 5 PM\n\n(Rain or Shine)\n\n\n\nOver 300 Sites!
X-ALT-DESC;FMTTYPE=text/html:33rd annual<br />\n<span style="font-size:16px\;"><strong>Jackson City Wide<br />\nRUMMAGE</strong></span><br />\n<br />\n<span style="font-size:14px\;"><strong>Saturday\, May 17th</strong></span><br />\n<strong>8AM to 5 PM</strong><br />\n(Rain or Shine)<br />\n<br />\nOver 300 Sites!
LOCATION:
UID:e.898.3118
SEQUENCE:3
DTSTAMP:20260421T051140Z
URL:https://cm.hartfordchamber.org/events/details/jackson-rummage-city-wide-05-17-2014-3118
END:VEVENT

END:VCALENDAR
