BEGIN:VCALENDAR
VERSION:2.0
PRODID:-//ChamberMaster//Event Calendar 2.0//EN
METHOD:PUBLISH
X-PUBLISHED-TTL:P3D
REFRESH-INTERVAL:P3D
CALSCALE:GREGORIAN
BEGIN:VEVENT
DTSTART:20150321T140000Z
DTEND:20150321T200000Z
X-MICROSOFT-CDO-ALLDAYEVENT:FALSE
SUMMARY:It's a Spring Thing Craft Fair
DESCRIPTION:Annual arts and craft fair to get you ready for Spring.\n\n\n\nUnique handmade crafts.\n\n\n\nDelicious homemade lunch served throughout the day.\n\n\n\nRaffle. There is something for everyone!
X-ALT-DESC;FMTTYPE=text/html:<br />\nAnnual arts and craft fair to get you ready for Spring.<br />\n<br />\nUnique handmade crafts.<br />\n<br />\nDelicious homemade lunch served throughout the day.<br />\n<br />\nRaffle. There is something for everyone!
LOCATION:St Kilian School\, 264 W State Street\, Hartford\, WI 53027
UID:e.898.3236
SEQUENCE:3
DTSTAMP:20260420T120915Z
URL:https://cm.hartfordchamber.org/events/details/it-s-a-spring-thing-craft-fair-03-21-2015-3236
END:VEVENT

END:VCALENDAR
